BEGIN:VCALENDAR
PRODID:-//Google Inc//Google Calendar 70.9054//EN
VERSION:2.0
CALSCALE:GREGORIAN
METHOD:REQUEST
BEGIN:VEVENT
DTSTART:20180111T190000Z
DTEND:20180111T193000Z
DTSTAMP:20180110T181324Z
ORGANIZER;CN=rhallise@redhat.com:mailto:rhallise@redhat.com
UID:0fg2rscuk8hlvhpttdcqquuadh@google.com
ATTENDEE;CUTYPE=INDIVIDUAL;ROLE=REQ-PARTICIPANT;PARTSTAT=ACCEPTED;RSVP=TRUE
 ;CN=mhrivnak@redhat.com;X-NUM-GUESTS=0:mailto:mhrivnak@redhat.com
ATTENDEE;CUTYPE=INDIVIDUAL;ROLE=REQ-PARTICIPANT;PARTSTAT=ACCEPTED;RSVP=TRUE
 ;CN=dymurray@redhat.com;X-NUM-GUESTS=0:mailto:dymurray@redhat.com
ATTENDEE;CUTYPE=INDIVIDUAL;ROLE=REQ-PARTICIPANT;PARTSTAT=ACCEPTED;RSVP=TRUE
 ;CN=fvonfeil@redhat.com;X-NUM-GUESTS=0:mailto:fabian@redhat.com
ATTENDEE;CUTYPE=INDIVIDUAL;ROLE=REQ-PARTICIPANT;PARTSTAT=ACCEPTED;RSVP=TRUE
 ;CN=dzager@redhat.com;X-NUM-GUESTS=0:mailto:dzager@redhat.com
ATTENDEE;CUTYPE=INDIVIDUAL;ROLE=REQ-PARTICIPANT;PARTSTAT=ACCEPTED;RSVP=TRUE
 ;CN=rhallise@redhat.com;X-NUM-GUESTS=0:mailto:rhallise@redhat.com
ATTENDEE;CUTYPE=INDIVIDUAL;ROLE=REQ-PARTICIPANT;PARTSTAT=ACCEPTED;RSVP=TRUE
 ;CN=ansible-service-broker@redhat.com;X-NUM-GUESTS=0:mailto:ansible-service
 -broker@redhat.com
CREATED:20180110T172745Z
DESCRIPTION:https://bluejeans.com/rhallise\nx9198908220\n\nDiscuss re facto
 ring of the apb tool.\nhttp://etherpad.corp.redhat.com/apb-tool-refactor\n\
 n- Improve the apb-tool's structure by breaking it into a series of class\n
   https://docs.google.com/document/d/1IUMVy-nma3xgOyk6xh1iW-P6Mu7RBYpO99Qp6
 5WRQsY/edit?usp=sharing\n- Re write the apb tool in go\n\n-::~:~::~:~:~:~:~
 :~:~:~:~:~:~:~:~:~:~:~:~:~:~:~:~:~:~:~:~:~:~:~:~:~:~:~:~:~:~:~::~:~::-\nPle
 ase do not edit this section of the description.\n\nView your event at http
 s://www.google.com/calendar/event?action=VIEW&eid=MGZnMnJzY3VrOGhsdmhwdHRkY
 3FxdXVhZGggYW5zaWJsZS1zZXJ2aWNlLWJyb2tlckByZWRoYXQuY29t&tok=MTkjcmhhbGxpc2V
 AcmVkaGF0LmNvbTlhZTU3YTZmYTUwZTE5MTAxYzcyNTVmZjU1YzU0MmM0NWViYzM1MmU&ctz=Am
 erica/New_York&hl=en.\n-::~:~::~:~:~:~:~:~:~:~:~:~:~:~:~:~:~:~:~:~:~:~:~:~:
 ~:~:~:~:~:~:~:~:~:~:~:~:~:~::~:~::-
LAST-MODIFIED:20180110T181324Z
LOCATION:
SEQUENCE:0
STATUS:CONFIRMED
SUMMARY:APB tool discussion
TRANSP:OPAQUE
END:VEVENT
END:VCALENDAR
