BEGIN:VCALENDAR
PRODID:-//Google Inc//Google Calendar 70.9054//EN
VERSION:2.0
CALSCALE:GREGORIAN
METHOD:REQUEST
BEGIN:VEVENT
DTSTART:20180615T150000Z
DTEND:20180615T160000Z
DTSTAMP:20180612T152549Z
ORGANIZER;CN=cbrookes@redhat.com:mailto:cbrookes@redhat.com
UID:1ee38ouatcmmthj782ea5n5chg@google.com
ATTENDEE;CUTYPE=INDIVIDUAL;ROLE=REQ-PARTICIPANT;PARTSTAT=ACCEPTED;RSVP=TRUE
 ;CN=cbrookes@redhat.com;X-NUM-GUESTS=0:mailto:cbrookes@redhat.com
ATTENDEE;CUTYPE=INDIVIDUAL;ROLE=REQ-PARTICIPANT;PARTSTAT=NEEDS-ACTION;RSVP=
 TRUE;CN=pgough@redhat.com;X-NUM-GUESTS=0:mailto:pgough@redhat.com
ATTENDEE;CUTYPE=INDIVIDUAL;ROLE=REQ-PARTICIPANT;PARTSTAT=NEEDS-ACTION;RSVP=
 TRUE;CN=davmarti@redhat.com;X-NUM-GUESTS=0:mailto:davmarti@redhat.com
ATTENDEE;CUTYPE=INDIVIDUAL;ROLE=REQ-PARTICIPANT;PARTSTAT=NEEDS-ACTION;RSVP=
 TRUE;CN=pbrookes@redhat.com;X-NUM-GUESTS=0:mailto:pbrookes@redhat.com
ATTENDEE;CUTYPE=INDIVIDUAL;ROLE=REQ-PARTICIPANT;PARTSTAT=NEEDS-ACTION;RSVP=
 TRUE;CN=ansible-service-broker@redhat.com;X-NUM-GUESTS=0:mailto:ansible-ser
 vice-broker@redhat.com
CREATED:20180612T151259Z
DESCRIPTION:\nhttps://bluejeans.com/2730432953/\n\nAfter the community meet
 ing. Setting this up for those interested in learning more and understandin
 g the issues.\n\nWould like to outline what we are looking into\n\nDiscuss 
 whether the automation broker is the right place for the work and also go t
 hrough some of the ideas around implementation. \n\nGet general feedback\n\
 n\nIssues covering this work:\nhttps://github.com/openshift/ansible-service
 -broker/issues/979\nhttps://github.com/openshift/ansible-service-broker/iss
 ues/982\n\nGeneral user story\nAs an operator of a managed service\, I want
  to be able to provision a service in a restricted namespace but allow any 
 user in my cluster to provision a slice of that service without needing to 
 know the specific location or credentials of the service.\n\nRoles user sto
 ry\nAs an operator of a managed service\, I would like the option to restri
 ct which users can request a slice of this service based on the roles the u
 ser has.\n\n-::~:~::~:~:~:~:~:~:~:~:~:~:~:~:~:~:~:~:~:~:~:~:~:~:~:~:~:~:~:~
 :~:~:~:~:~:~:~:~::~:~::-\nPlease do not edit this section of the descriptio
 n.\n\nView your event at https://www.google.com/calendar/event?action=VIEW&
 eid=MWVlMzhvdWF0Y21tdGhqNzgyZWE1bjVjaGcgYW5zaWJsZS1zZXJ2aWNlLWJyb2tlckByZWR
 oYXQuY29t&tok=MTkjY2Jyb29rZXNAcmVkaGF0LmNvbThmNDhjMzgzZGNlZjdmOWEyNjY1Y2MyZ
 DA5MGRmNjc2NjQyNzM2NzY&ctz=Europe%2FDublin&hl=en&es=1.\n-::~:~::~:~:~:~:~:~
 :~:~:~:~:~:~:~:~:~:~:~:~:~:~:~:~:~:~:~:~:~:~:~:~:~:~:~:~:~:~::~:~::-
LAST-MODIFIED:20180612T152549Z
LOCATION:
SEQUENCE:0
STATUS:CONFIRMED
SUMMARY:managed shared services and the broker
TRANSP:OPAQUE
END:VEVENT
END:VCALENDAR
