BEGIN:VCALENDAR
PRODID:-//Google Inc//Google Calendar 70.9054//EN
VERSION:2.0
CALSCALE:GREGORIAN
METHOD:REQUEST
BEGIN:VTIMEZONE
TZID:America/New_York
X-LIC-LOCATION:America/New_York
BEGIN:DAYLIGHT
TZOFFSETFROM:-0500
TZOFFSETTO:-0400
TZNAME:EDT
DTSTART:19700308T020000
RRULE:FREQ=YEARLY;BYMONTH=3;BYDAY=2SU
END:DAYLIGHT
BEGIN:STANDARD
TZOFFSETFROM:-0400
TZOFFSETTO:-0500
TZNAME:EST
DTSTART:19701101T020000
RRULE:FREQ=YEARLY;BYMONTH=11;BYDAY=1SU
END:STANDARD
END:VTIMEZONE
BEGIN:VEVENT
DTSTART;TZID=America/New_York:20180731T093000
DTEND;TZID=America/New_York:20180731T103000
RRULE:FREQ=WEEKLY;UNTIL=20180814T035959Z;BYDAY=TU
DTSTAMP:20180814T133456Z
ORGANIZER;CN=rhallise@redhat.com:mailto:rhallise@redhat.com
UID:6t4690vb8v9qk71lk7pea3jl0a_R20180731T133000@google.com
ATTENDEE;CUTYPE=INDIVIDUAL;ROLE=REQ-PARTICIPANT;PARTSTAT=NEEDS-ACTION;RSVP=
 TRUE;CN=ccpeng-team;X-NUM-GUESTS=0:mailto:ccpeng-team@redhat.com
ATTENDEE;CUTYPE=INDIVIDUAL;ROLE=REQ-PARTICIPANT;PARTSTAT=ACCEPTED;RSVP=TRUE
 ;CN=ansible-service-broker@redhat.com;X-NUM-GUESTS=0:mailto:ansible-service
 -broker@redhat.com
ATTENDEE;CUTYPE=INDIVIDUAL;ROLE=REQ-PARTICIPANT;PARTSTAT=ACCEPTED;RSVP=TRUE
 ;CN=rhallise@redhat.com;X-NUM-GUESTS=0:mailto:rhallise@redhat.com
CREATED:20180302T224046Z
DESCRIPTION:\n\nhttps://docs.google.com/document/d/1Mj7bVYJ8NK-TwU_mxeZLprm
 BBZZ-xOq-Hg4CiD3E6pM/edit#heading=h.12ew608coolu\n\nFreenode: #asbroker\n\n
 -::~:~::~:~:~:~:~:~:~:~:~:~:~:~:~:~:~:~:~:~:~:~:~:~:~:~:~:~:~:~:~:~:~:~:~:~
 :~:~::~:~::-\nPlease do not edit this section of the description.\n\nView y
 our event at https://www.google.com/calendar/event?action=VIEW&eid=NnQ0Njkw
 dmI4djlxazcxbGs3cGVhM2psMGFfUjIwMTgwNzMxVDEzMzAwMCBhbnNpYmxlLXNlcnZpY2UtYnJ
 va2VyQHJlZGhhdC5jb20&tok=MTkjcmhhbGxpc2VAcmVkaGF0LmNvbWRhNjY3MDU2OGUyYjBkOT
 UzOTJlMzA3ZTlmYjJmM2Y0MmEwNDIyYzc&ctz=America%2FNew_York&hl=en&es=0.\n-::~:
 ~::~:~:~:~:~:~:~:~:~:~:~:~:~:~:~:~:~:~:~:~:~:~:~:~:~:~:~:~:~:~:~:~:~:~:~:~:
 :~:~::-
LAST-MODIFIED:20180814T133455Z
LOCATION:
SEQUENCE:1
STATUS:CONFIRMED
SUMMARY:Automation Broker IRC meeting
TRANSP:OPAQUE
END:VEVENT
END:VCALENDAR
