BEGIN:VCALENDAR
PRODID:-//Google Inc//Google Calendar 70.9054//EN
VERSION:2.0
CALSCALE:GREGORIAN
METHOD:REQUEST
BEGIN:VEVENT
DTSTART:20180821T133000Z
DTEND:20180821T143000Z
EXDATE;VALUE=DATE-TIME:20180821T133000Z
EXDATE;VALUE=DATE-TIME:20181002T133000Z
EXDATE;VALUE=DATE-TIME:20181016T133000Z
RRULE:FREQ=WEEKLY;UNTIL=20181029T235959Z;INTERVAL=2;BYDAY=TU
DTSTAMP:20181030T010029Z
ORGANIZER;CN=rhallise@redhat.com:mailto:rhallise@redhat.com
UID:2kt668s2vvo9hripv6gnntjvl8@google.com
ATTENDEE;CUTYPE=INDIVIDUAL;ROLE=REQ-PARTICIPANT;PARTSTAT=NEEDS-ACTION;RSVP=
 TRUE;CN=ccpeng-team;X-NUM-GUESTS=0:mailto:ccpeng-team@redhat.com
ATTENDEE;CUTYPE=INDIVIDUAL;ROLE=REQ-PARTICIPANT;PARTSTAT=NEEDS-ACTION;RSVP=
 TRUE;CN=ansible-service-broker@redhat.com;X-NUM-GUESTS=0:mailto:ansible-ser
 vice-broker@redhat.com
ATTENDEE;CUTYPE=INDIVIDUAL;ROLE=REQ-PARTICIPANT;PARTSTAT=DECLINED;RSVP=TRUE
 ;CN=rhallise@redhat.com;X-NUM-GUESTS=0:mailto:rhallise@redhat.com
CREATED:20180302T224046Z
DESCRIPTION:\n\nhttps://docs.google.com/document/d/1Mj7bVYJ8NK-TwU_mxeZLprm
 BBZZ-xOq-Hg4CiD3E6pM/edit#heading=h.12ew608coolu\n\nFreenode: #asbroker\n\n
 -::~:~::~:~:~:~:~:~:~:~:~:~:~:~:~:~:~:~:~:~:~:~:~:~:~:~:~:~:~:~:~:~:~:~:~:~
 :~:~::~:~::-\nPlease do not edit this section of the description.\n\nView y
 our event at https://www.google.com/calendar/event?action=VIEW&eid=Mmt0NjY4
 czJ2dm85aHJpcHY2Z25udGp2bDggYW5zaWJsZS1zZXJ2aWNlLWJyb2tlckByZWRoYXQuY29t&to
 k=MTkjcmhhbGxpc2VAcmVkaGF0LmNvbTRjODViMTk1MTVlMmJkNTY4ZWQ4OWVhYWI1MTAzZjBkZ
 WVmZmNhYjE&ctz=America%2FNew_York&hl=en&es=0.\n-::~:~::~:~:~:~:~:~:~:~:~:~:
 ~:~:~:~:~:~:~:~:~:~:~:~:~:~:~:~:~:~:~:~:~:~:~:~:~:~::~:~::-
LAST-MODIFIED:20181030T010028Z
LOCATION:
SEQUENCE:2
STATUS:CONFIRMED
SUMMARY:Automation Broker IRC meeting
TRANSP:OPAQUE
END:VEVENT
END:VCALENDAR
