BEGIN:VCALENDAR
PRODID:-//Google Inc//Google Calendar 70.9054//EN
VERSION:2.0
CALSCALE:GREGORIAN
METHOD:REQUEST
BEGIN:VEVENT
DTSTART:20181113T150000Z
DTEND:20181113T153000Z
EXDATE;VALUE=DATE-TIME:20181113T150000Z
EXDATE;VALUE=DATE-TIME:20181127T150000Z
RRULE:FREQ=WEEKLY;INTERVAL=2;BYDAY=TU
DTSTAMP:20181128T144928Z
ORGANIZER;CN=rhallise@redhat.com:mailto:rhallise@redhat.com
UID:4amb0b98vmftvbjgf6gbm7e9bs@google.com
ATTENDEE;CUTYPE=INDIVIDUAL;ROLE=REQ-PARTICIPANT;PARTSTAT=NEEDS-ACTION;RSVP=
 TRUE;CN=ccpeng-team;X-NUM-GUESTS=0:mailto:ccpeng-team@redhat.com
ATTENDEE;CUTYPE=INDIVIDUAL;ROLE=REQ-PARTICIPANT;PARTSTAT=NEEDS-ACTION;RSVP=
 TRUE;CN=ansible-service-broker@redhat.com;X-NUM-GUESTS=0:mailto:ansible-ser
 vice-broker@redhat.com
ATTENDEE;CUTYPE=INDIVIDUAL;ROLE=REQ-PARTICIPANT;PARTSTAT=DECLINED;RSVP=TRUE
 ;CN=rhallise@redhat.com;X-NUM-GUESTS=0:mailto:rhallise@redhat.com
CREATED:20180302T224046Z
DESCRIPTION:\n\nhttps://docs.google.com/document/d/1Mj7bVYJ8NK-TwU_mxeZLprm
 BBZZ-xOq-Hg4CiD3E6pM/edit#heading=h.12ew608coolu\n\nFreenode: #asbroker\n\n
 -::~:~::~:~:~:~:~:~:~:~:~:~:~:~:~:~:~:~:~:~:~:~:~:~:~:~:~:~:~:~:~:~:~:~:~:~
 :~:~::~:~::-\nPlease do not edit this section of the description.\n\nView y
 our event at https://www.google.com/calendar/event?action=VIEW&eid=NGFtYjBi
 OTh2bWZ0dmJqZ2Y2Z2JtN2U5YnMgYW5zaWJsZS1zZXJ2aWNlLWJyb2tlckByZWRoYXQuY29t&to
 k=MTkjcmhhbGxpc2VAcmVkaGF0LmNvbTE5MDI3YTcyYzUxZjg4YTBlZmUwOWVkYTg2ZmQzOGYyZ
 GRmNDg5YTA&ctz=America%2FNew_York&hl=en&es=0.\n-::~:~::~:~:~:~:~:~:~:~:~:~:
 ~:~:~:~:~:~:~:~:~:~:~:~:~:~:~:~:~:~:~:~:~:~:~:~:~:~::~:~::-
LAST-MODIFIED:20181128T144927Z
LOCATION:
SEQUENCE:4
STATUS:CONFIRMED
SUMMARY:Automation Broker IRC meeting
TRANSP:OPAQUE
END:VEVENT
END:VCALENDAR
