BEGIN:VCALENDAR
PRODID:-//Charnet Event Calendar//iCal4j 1.0//EN
VERSION:2.0
CALSCALE:GREGORIAN
METHOD:REQUEST
BEGIN:VEVENT
DTSTAMP:20151216T031452Z
DTSTART:20151216T013000Z
DTEND:20151216T033000Z
SUMMARY:Teiid/VirtualDB Incident | 16-Dec-2015 01:30:00 UTC
UID:9c42a6ec-417e-4480-a994-2993ef3917a2@support.engineering.redhat.com
TZID:Europe/London
ORGANIZER:mailto:charnet-notification@redhat.com
DESCRIPTION:---------------------------------------------------------\n***// INCIDENT REPORT //***\n\nHostName:\nvirtualdb.engineering.redhat.com\n\nIncident Date:\n16-Dec-2015 01:30:00 UTC\n\nElapsed Time of Incident:\n120 minutes\n\nPerformed By:\nwthames\n\nPeople/Groups Impacted:\nVirtualDB users - Bugzilla datasource\n\nServices/Sites Impacted:\nTeiid/VirtualDB\n\nDescription:\nThe Bugzilla internal DB slave is in an inconsistent state following maintenance of Bugzilla that included dropping and recreating indexes.  A recovery operation has been started.\n\nImpact:\nThe internal slave state is resulting in the datasource being inaccessible to Teiid\, with some flow through effects to the virtual databases such as the "public" VDB.\n\nRecovery will take several hours to resync the ~350Gb of database and WAL logs.  The next update on progress will be sent at 5:00 UTC. \n\nTicket ID:\nhttps://engineering.redhat.com/rt/Ticket/Display.html?id=383675\n\n
ATTENDEE;ROLE=REQ-PARTICIPANT;CUTYPE=INDIVIDUAL;RSVP=TRUE;PARTSTAT=NEEDS-ACTION:mailto:bugzilla-announce-list@redhat.com
ATTENDEE;ROLE=REQ-PARTICIPANT;CUTYPE=INDIVIDUAL;RSVP=TRUE;PARTSTAT=NEEDS-ACTION:mailto:outage-list@redhat.com
LAST-MODIFIED:20151216T031452Z
BEGIN:VALARM
TRIGGER:-PT5M
ACTION:DISPLAY
DESCRIPTION:Teiid/VirtualDB Incident | 16-Dec-2015 01:30:00 UTC
END:VALARM
END:VEVENT
END:VCALENDAR
