BEGIN:VCALENDAR
PRODID:-//Google Inc//Google Calendar 70.9054//EN
VERSION:2.0
CALSCALE:GREGORIAN
METHOD:REQUEST
BEGIN:VEVENT
DTSTART:20070817T180000Z
DTEND:20070817T200000Z
DTSTAMP:20070817T142227Z
ORGANIZER;CN=Richard Bukovansky:MAILTO:richard.bukovansky@atlas.cz
UID:a11sklb35ttqip0lppfg0s7n9k@google.com
CLASS:PRIVATE
CREATED:20070817T142119Z
DESCRIPTION:
LAST-MODIFIED:20070817T142119Z
LOCATION:?irc.freenode.net\, #fedora-cs
SEQUENCE:0
STATUS:CONFIRMED
SUMMARY:0. Virtualni CZFedoraCon?
TRANSP:OPAQUE
END:VEVENT
END:VCALENDAR
