BEGIN:VCALENDAR
CALSCALE:GREGORIAN
PRODID:-//Ximian//NONSGML Evolution Calendar//EN
VERSION:2.0
METHOD:PUBLISH
BEGIN:VTIMEZONE
TZID:/softwarestudio.org/Olson_20070227_6/America/Montreal
X-LIC-LOCATION:America/Montreal
BEGIN:DAYLIGHT
TZOFFSETFROM:-0500
TZOFFSETTO:-0400
TZNAME:EDT
DTSTART:19700308T020000
RRULE:FREQ=YEARLY;INTERVAL=1;BYDAY=2SU;BYMONTH=3
END:DAYLIGHT
BEGIN:STANDARD
TZOFFSETFROM:-0400
TZOFFSETTO:-0500
TZNAME:EST
DTSTART:19701101T020000
RRULE:FREQ=YEARLY;INTERVAL=1;BYDAY=1SU;BYMONTH=11
END:STANDARD
END:VTIMEZONE
BEGIN:VEVENT
UID:20070825T005337Z-3642-500-1-4@ignacio.ignacio.lan
DTSTAMP:20070825T010541Z
DTSTART;TZID=/softwarestudio.org/Olson_20070227_6/America/Montreal:
 20070827T160000
DTEND;TZID=/softwarestudio.org/Olson_20070227_6/America/Montreal:
 20070827T170000
TRANSP:OPAQUE
SEQUENCE:2
SUMMARY:Fedora Puppet Training
LOCATION:irc://chat.freenode.net/#fedora-meeting and sip:
 infrastructure@fedoraproject.org
DESCRIPTION:Puppet training by Mike McGrath for interested parties
CLASS:PUBLIC
CREATED:20070825T010328
LAST-MODIFIED:20070825T010328
ORGANIZER;CN=Ignacio Vazquez-Abrams:MAILTO:ivazqueznet@gmail.com
END:VEVENT
END:VCALENDAR
