BEGIN:VCALENDAR
PRODID:-//WhenIsGood//Using iCal4j 1.0//EN
VERSION:2.0
CALSCALE:GREGORIAN
BEGIN:VEVENT
DTSTAMP:20091002T231147Z
DTSTART:20091006T190000Z
DURATION:PT0S
SUMMARY:FedoraTalk IRC
UID:20091002T231147Z-1@fe80:0:0:0:4240:c7ff:fe03:53e3%3
END:VEVENT
END:VCALENDAR
