BEGIN:VCALENDAR
METHOD:REQUEST
PRODID:Microsoft Exchange Server 2010
VERSION:2.0
BEGIN:VTIMEZONE
TZID:Europe/Berlin
BEGIN:STANDARD
DTSTART:16010101T030000
TZOFFSETFROM:+0200
TZOFFSETTO:+0100
RRULE:FREQ=YEARLY;INTERVAL=1;BYDAY=-1SU;BYMONTH=10
END:STANDARD
BEGIN:DAYLIGHT
DTSTART:16010101T020000
TZOFFSETFROM:+0100
TZOFFSETTO:+0200
RRULE:FREQ=YEARLY;INTERVAL=1;BYDAY=-1SU;BYMONTH=3
END:DAYLIGHT
END:VTIMEZONE
BEGIN:VEVENT
ORGANIZER:MAILTO:Florian.Loering@itzbund.de
ATTENDEE;ROLE=REQ-PARTICIPANT;PARTSTAT=NEEDS-ACTION;RSVP=TRUE:MAILTO:opensh
 ift-anwender@redhat.com
ATTENDEE;ROLE=REQ-PARTICIPANT;PARTSTAT=NEEDS-ACTION;RSVP=TRUE:MAILTO:opensh
 ift-anwender-bounces@redhat.com
ATTENDEE;ROLE=REQ-PARTICIPANT;PARTSTAT=NEEDS-ACTION;RSVP=TRUE:MAILTO:robert
 .bohne@redhat.com
ATTACH:CID:0BF9E8D4492E4C4887C290103FC2964D@zvd-p1.itzbund.de
DESCRIPTION;LANGUAGE=de-DE:_______________________________________________\
 nOpenShift Anwender Mailing List\nhttps://www.openshift-anwender.de\nList-
 Info: https://listman.redhat.com/mailman/listinfo/openshift-anwender\nUnsu
 bscribe: https://listman.redhat.com/mailman/options/openshift-anwender
UID:040000008200E00074C5B7101A82E0080000000018710A68B854D801000000000000000
 0100000005E626A4772414A47831CF32581476687
SUMMARY;LANGUAGE=de-DE:[EXTERN][Openshift-anwender] Save the Date - 30.Juni
  2022 für das nächste IN-PERSON OpenShift Anwendertreffen
DTSTART;TZID=Europe/Berlin:20220420T151500
DTEND;TZID=Europe/Berlin:20220420T161500
CLASS:PUBLIC
PRIORITY:5
DTSTAMP:20220420T131320Z
TRANSP:OPAQUE
STATUS:CONFIRMED
SEQUENCE:0
LOCATION;LANGUAGE=de-DE:
X-MICROSOFT-CDO-APPT-SEQUENCE:0
X-MICROSOFT-CDO-OWNERAPPTID:2120525336
X-MICROSOFT-CDO-BUSYSTATUS:TENTATIVE
X-MICROSOFT-CDO-INTENDEDSTATUS:BUSY
X-MICROSOFT-CDO-ALLDAYEVENT:FALSE
X-MICROSOFT-CDO-IMPORTANCE:1
X-MICROSOFT-CDO-INSTTYPE:0
X-MICROSOFT-DONOTFORWARDMEETING:FALSE
X-MICROSOFT-DISALLOW-COUNTER:FALSE
BEGIN:VALARM
DESCRIPTION:REMINDER
TRIGGER;RELATED=START:-PT15M
ACTION:DISPLAY
END:VALARM
END:VEVENT
END:VCALENDAR
