BEGIN:VCALENDAR
VERSION:2.0
METHOD:REQUEST
PRODID:-//PYVOBJECT//NONSGML Version 1//EN
BEGIN:VTIMEZONE
TZID:America/Los_Angeles
TZURL:http://tzurl.org/zoneinfo-outlook/America/Los_Angeles
X-LIC-LOCATION:America/Los_Angeles
BEGIN:DAYLIGHT
TZOFFSETFROM:-0800
TZOFFSETTO:-0700
TZNAME:PDT
DTSTART:19700308T020000
RRULE:FREQ=YEARLY;BYMONTH=3;BYDAY=2SU
END:DAYLIGHT
BEGIN:STANDARD
TZOFFSETFROM:-0700
TZOFFSETTO:-0800
TZNAME:PST
DTSTART:19701101T020000
RRULE:FREQ=YEARLY;BYMONTH=11;BYDAY=1SU
END:STANDARD
END:VTIMEZONE

BEGIN:VEVENT
UID:RyQOi_qdmURpYU7J@lI8Q71A8wk1pIPC
DTSTART;TZID=America/Los_Angeles:20160601T080000
DTEND;TZID=America/Los_Angeles:20160601T090000
ATTENDEE;CUTYPE=INDIVIDUAL;ROLE=REQ-PARTICIPANT;PARTSTAT=NEEDS-ACTION;RSVP
 =TRUE:mailto:mohammed.zee1000@gmail.com
ATTENDEE;CUTYPE=INDIVIDUAL;ROLE=REQ-PARTICIPANT;PARTSTAT=NEEDS-ACTION;RSVP
 =TRUE:mailto:dshah@redhat.com
ATTENDEE;CUTYPE=INDIVIDUAL;ROLE=REQ-PARTICIPANT;PARTSTAT=NEEDS-ACTION;RSVP
 =TRUE:mailto:Openshift-commons-sig-image-builders@redhat.com
ATTENDEE;CUTYPE=INDIVIDUAL;ROLE=REQ-PARTICIPANT;PARTSTAT=NEEDS-ACTION;RSVP
 =TRUE:mailto:dmueller@redhat.com
CREATED:20160527T204147Z
DESCRIPTION:\n\n\nTo join the meeting on a computer or mobile phone: https
 ://bluejeans.com/350429644?src=calendarLink&g=j5ygk3ttnbuwm5bnmnxw23lpnzzs
 243jm4wws3lbm5ss2ytvnfwgizlsonahezlenbqxiltdn5wq====\n\nDiane Mueller has 
 invited you to a video meeting.\n\nTo join from a Red Hat Deskphone or Sof
 tphone\, dial: 84336.\n-----------------------------------\nConnecting dir
 ectly from a room system?\n1) Dial: 199.48.152.152 or bjn.vc\n2) Enter Mee
 ting ID: 350429644\n\nJust want to dial in on your phone?\n1) +1 800 451 8
 679 \n    +1 212 729 5016 \n     (https://www.intercallonline.com/listNumb
 ersByCode.action?confCode=8933049334)\n2) Enter Meeting ID: 8933049334\n3)
  Press #\n-----------------------------------\nDescription:\nThe CentOS Co
 mmunity has developed a workflow for building images. Dharmit Shah and Moh
 ammed Zeeshan will be giving an overview/demo on how the CentOS Community 
 Container Pipeline works and lead a discussion & Q/A session for those int
 erested in learning more. https://github.com/kbsingh/cccp-index\n\nPlease 
 note that this session will be at 8:00 am Pacific to accommodate their sch
 edules. \n-----------------------------------\nWant to test your video con
 nection?\nhttp://bluejeans.com/111\n\n
DTSTAMP:20160527T204149Z
LAST-MODIFIED:20160527T204147Z
LOCATION:
ORGANIZER:mailto:dmueller@redhat.com
SEQUENCE:0
STATUS:CONFIRMED
SUMMARY:OpenShift Commons Image Builder SIG Meeting: Centos Container Pipe
 line Overview and Demo
TRANSP:OPAQUE
END:VEVENT
END:VCALENDAR
