BEGIN:VCALENDAR
PRODID:-//Google Inc//Google Calendar 70.9054//EN
VERSION:2.0
CALSCALE:GREGORIAN
METHOD:CANCEL
BEGIN:VEVENT
DTSTART:20160601T150000Z
DTEND:20160601T160000Z
DTSTAMP:20160531T213158Z
ORGANIZER;CN=Jorge Morales Pou:mailto:jorgemoralespou@gmail.com
UID:clhj6dj66cqj6b9g68s3gb9k6ks6cb9pcgqm4b9mcop30opl6cr34c9ock@google.com
ATTENDEE;CUTYPE=INDIVIDUAL;ROLE=REQ-PARTICIPANT;PARTSTAT=ACCEPTED;CN=Jorge 
 Morales Pou;X-NUM-GUESTS=0:mailto:jorgemoralespou@gmail.com
ATTENDEE;CUTYPE=INDIVIDUAL;ROLE=REQ-PARTICIPANT;PARTSTAT=NEEDS-ACTION;CN=op
 enshift-commons-sig-image-builders@redhat.com;X-NUM-GUESTS=0:mailto:openshi
 ft-commons-sig-image-builders@redhat.com
ATTENDEE;CUTYPE=INDIVIDUAL;ROLE=REQ-PARTICIPANT;PARTSTAT=NEEDS-ACTION;CN=Mo
 hammed Zeeshan;X-NUM-GUESTS=0:mailto:mohammed.zee1000@gmail.com
ATTENDEE;CUTYPE=INDIVIDUAL;ROLE=REQ-PARTICIPANT;PARTSTAT=NEEDS-ACTION;CN=ds
 hah@redhat.com;X-NUM-GUESTS=0:mailto:dshah@redhat.com
CREATED:20160528T054304Z
DESCRIPTION:
LAST-MODIFIED:20160531T213157Z
LOCATION:
SEQUENCE:1
STATUS:CANCELLED
SUMMARY:OpenShift Commons Image Builder SIG Meeting: Centos Container Pipel
 ine Overview and Demo
TRANSP:OPAQUE
END:VEVENT
END:VCALENDAR
