BEGIN:VCALENDAR
VERSION:2.0
METHOD:REQUEST
PRODID:-//PYVOBJECT//NONSGML Version 1//EN
BEGIN:VTIMEZONE
TZID:GMT
BEGIN:STANDARD
DTSTART:20001029T020000
RRULE:FREQ=YEARLY;BYDAY=-1SU;BYMONTH=10
TZNAME:GMT
TZOFFSETFROM:+0100
TZOFFSETTO:+0000
END:STANDARD
BEGIN:DAYLIGHT
DTSTART:20000326T010000
RRULE:FREQ=YEARLY;BYDAY=-1SU;BYMONTH=3
TZNAME:BST
TZOFFSETFROM:+0000
TZOFFSETTO:+0100
END:DAYLIGHT
END:VTIMEZONE
BEGIN:VEVENT
UID:nzcxG_PGS4WkpTX0@Z4Fe0i0IJl2zO7i
DTSTART;TZID=GMT:20150121T150000
DTEND;TZID=GMT:20150121T160000
ATTENDEE;CUTYPE=INDIVIDUAL;ROLE=REQ-PARTICIPANT;PARTSTAT=NEEDS-ACTION;RSVP
 =TRUE:mailto:rdo-list@redhat.com
CREATED:20141217T151411Z
DESCRIPTION:\n\nAlan Pevec (apevec@redhat.com) has invited you to a video 
 meeting.\n\nTo join from a Red Hat Deskphone or Softphone\, dial: 84336.\n
 \n************************************************\n\nTo join or start the
  meeting\, go to:\nhttps://bluejeans.com/948098149?ll=en&g=ojsg6llmnfzxiqd
 smvsgqylufzrw63i=\n\n\n\n\nConnecting directly from a room system?\n1) Dia
 l: 199.48.152.152 or bjn.vc\n2) Enter Meeting ID: 948098149 -or- use the p
 airing code\n\n\n\nJust want to dial in? (https://www.intercallonline.com/
 listNumbersByCode.action?confCode=4929648579)\n1) +442035746870 \n2) Enter
  Meeting ID: 4929648579\n\n\n\n\n\n\n\n***********************************
 *************\n\nFirst time joining a Blue Jeans Video Meeting?\nhttp://bl
 uejeans.com/support\n\n************************************************\n\
 nWant to test your video connection?\nhttp://bluejeans.com/111\n\n********
 ****************************************\n\nVisit bluejeans.com\n\n*******
 *****************************************\n\nBlue Jeans Network 2014\n
DTSTAMP:20150114T165037Z
LAST-MODIFIED:20150114T165037Z
LOCATION:
ORGANIZER:mailto:apevec@redhat.com
RRULE:FREQ=WEEKLY;INTERVAL=2;BYDAY=WE;WKST=SU
SEQUENCE:2
STATUS:CONFIRMED
SUMMARY:RDO meeting
TRANSP:OPAQUE
END:VEVENT
END:VCALENDAR
