BEGIN:VCALENDAR
VERSION:2.0
METHOD:CANCEL
PRODID:-//PYVOBJECT//NONSGML Version 1//EN
BEGIN:VTIMEZONE
TZID:GMT
BEGIN:STANDARD
DTSTART:20001029T020000
RRULE:FREQ=YEARLY;BYDAY=-1SU;BYMONTH=10
TZNAME:GMT
TZOFFSETFROM:+0100
TZOFFSETTO:+0000
END:STANDARD
BEGIN:DAYLIGHT
DTSTART:20000326T010000
RRULE:FREQ=YEARLY;BYDAY=-1SU;BYMONTH=3
TZNAME:BST
TZOFFSETFROM:+0000
TZOFFSETTO:+0100
END:DAYLIGHT
END:VTIMEZONE
BEGIN:VEVENT
UID:nzcxG_PGS4WkpTX0@Z4Fe0i0IJl2zO7i
DTSTART;TZID=GMT:20150225T150000
DTEND;TZID=GMT:20150225T160000
ATTENDEE;CUTYPE=INDIVIDUAL;ROLE=REQ-PARTICIPANT;PARTSTAT=DECLINED:mailto:a
 pevec@redhat.com
CREATED:20150218T191402Z
DESCRIPTION:\nAlan Pevec (apevec@redhat.com) has cancelled this meeting.\n
 \n************************************************\n\nMessage/Description:
  Meeting is now on IRC Freenode #rdo every Wed 1500 UTC agenda at https://
 etherpad.openstack.org/p/RDO-Packaging \n\n\n*****************************
 *******************\n\nBlue Jeans Network 2014\n
DTSTAMP:20150218T191516Z
LAST-MODIFIED:20150218T191515Z
LOCATION:
ORGANIZER:mailto:apevec@redhat.com
RRULE:FREQ=WEEKLY;INTERVAL=2;BYDAY=WE;WKST=SU
SEQUENCE:2
STATUS:CANCELLED
SUMMARY:RDO meeting
TRANSP:OPAQUE
END:VEVENT
END:VCALENDAR
