BEGIN:VCALENDAR
PRODID:-//Charnet Event Calendar//iCal4j 1.0//EN
VERSION:2.0
CALSCALE:GREGORIAN
METHOD:REQUEST
BEGIN:VEVENT
DTSTAMP:20150519T122631Z
DTSTART:20150520T100000Z
DTEND:20150520T110000Z
SUMMARY:{fedora\,translate}.zanata.org\; translate.jboss.org Scheduled Maintenance | 20-May-2015 10:00:00 UTC
UID:222c1c7e-7abf-4708-a35d-51af72dfe73d@support.engineering.redhat.com
TZID:Europe/London
ORGANIZER:mailto:charnet-notification@redhat.com
DESCRIPTION:---------------------------------------------------------\n***// SCHEDULED MAINTENANCE REPORT //***\n\nPriority:\nMedium\n\nScheduled Date:\n20-May-2015 10:00:00 UTC\n\nEstimated Time Required:\n60 minutes\n\nPerformed By:\nttrinks\n\nPeople/Groups Impacted:\nUsers of {fedora\,translate}.zanata.org\; translate.jboss.org\n\nServices/Sites Impacted:\n{fedora\,translate}.zanata.org\; translate.jboss.org\n\nDescription:\nThe Zanata share has to be moved to a new NFS share.\n\nImpact:\nThe translation framework Zanata will not be available during outage.\n\nSign Off:\nVadim Grinco\n\n
ATTENDEE;ROLE=REQ-PARTICIPANT;CUTYPE=INDIVIDUAL;RSVP=TRUE;PARTSTAT=NEEDS-ACTION:mailto:trans@lists.fedoraproject.org
ATTENDEE;ROLE=REQ-PARTICIPANT;CUTYPE=INDIVIDUAL;RSVP=TRUE;PARTSTAT=NEEDS-ACTION:mailto:zanata-list@redhat.com
ATTENDEE;ROLE=REQ-PARTICIPANT;CUTYPE=INDIVIDUAL;RSVP=TRUE;PARTSTAT=NEEDS-ACTION:mailto:doc-i18n-list@redhat.com
ATTENDEE;ROLE=REQ-PARTICIPANT;CUTYPE=INDIVIDUAL;RSVP=TRUE;PARTSTAT=NEEDS-ACTION:mailto:outage-list@redhat.com
LAST-MODIFIED:20150519T122631Z
BEGIN:VALARM
TRIGGER:-PT5M
ACTION:DISPLAY
DESCRIPTION:{fedora\,translate}.zanata.org\; translate.jboss.org Scheduled Maintenance | 20-May-2015 10:00:00 UTC
END:VALARM
END:VEVENT
END:VCALENDAR

