BEGIN:VCALENDAR
PRODID:-//Charnet Event Calendar//iCal4j 1.0//EN
VERSION:2.0
CALSCALE:GREGORIAN
METHOD:REQUEST
BEGIN:VEVENT
DTSTAMP:20150923T085009Z
DTSTART:20150924T090000Z
DTEND:20150924T110000Z
SUMMARY:translate.jboss.org Scheduled Maintenance | 24-Sep-2015 09:00:00 UTC
UID:5e011639-fc5f-4539-802c-6963e18aea4f@support.engineering.redhat.com
TZID:Europe/London
ORGANIZER:mailto:charnet-notification@redhat.com
DESCRIPTION:---------------------------------------------------------\n***// SCHEDULED MAINTENANCE REPORT //***\n\nPriority:\nMedium\n\nScheduled Date:\n24-Sep-2015 09:00:00 UTC\n\nEstimated Time Required:\n120 minutes\n\nPerformed By:\nttrinks\n\nPeople/Groups Impacted:\nUsers of translate.jboss.org\n\nServices/Sites Impacted:\ntranslate.jboss.org\n\nDescription:\nZanata on translate.zanata.org will be upgraded.\n\nImpact:\nThe translation framework Zanata will not be available during outage.\n\nSign Off:\nVadim Grinco\n\n
ATTENDEE;ROLE=REQ-PARTICIPANT;CUTYPE=INDIVIDUAL;RSVP=TRUE;PARTSTAT=NEEDS-ACTION:mailto:zanata-users@redhat.com
ATTENDEE;ROLE=REQ-PARTICIPANT;CUTYPE=INDIVIDUAL;RSVP=TRUE;PARTSTAT=NEEDS-ACTION:mailto:zanata-list@redhat.com
ATTENDEE;ROLE=REQ-PARTICIPANT;CUTYPE=INDIVIDUAL;RSVP=TRUE;PARTSTAT=NEEDS-ACTION:mailto:doc-i18n-list@redhat.com
ATTENDEE;ROLE=REQ-PARTICIPANT;CUTYPE=INDIVIDUAL;RSVP=TRUE;PARTSTAT=NEEDS-ACTION:mailto:outage-list@redhat.com
ATTENDEE;ROLE=REQ-PARTICIPANT;CUTYPE=INDIVIDUAL;RSVP=TRUE;PARTSTAT=NEEDS-ACTION:mailto:jboss-l10n@lists.jboss.org
LAST-MODIFIED:20150923T085009Z
BEGIN:VALARM
TRIGGER:-PT5M
ACTION:DISPLAY
DESCRIPTION:translate.jboss.org Scheduled Maintenance | 24-Sep-2015 09:00:00 UTC
END:VALARM
END:VEVENT
END:VCALENDAR
