BEGIN:VCALENDAR
PRODID:-//Charnet Event Calendar//iCal4j 1.0//EN
VERSION:2.0
CALSCALE:GREGORIAN
METHOD:REQUEST
BEGIN:VEVENT
DTSTAMP:20150925T133019Z
DTSTART:20150928T090000Z
DTEND:20150928T110000Z
SUMMARY:translate.zanata.org Scheduled Maintenance | 28-Sep-2015 09:00:00 UTC
UID:11f3cfd9-262d-40b3-a8c1-68e126e63ea6@support.engineering.redhat.com
TZID:Europe/London
ORGANIZER:mailto:charnet-notification@redhat.com
DESCRIPTION:---------------------------------------------------------\n***// SCHEDULED MAINTENANCE REPORT //***\n\nPriority:\nMedium\n\nScheduled Date:\n28-Sep-2015 09:00:00 UTC\n\nEstimated Time Required:\n120 minutes\n\nPerformed By:\nttrinks\n\nPeople/Groups Impacted:\nUsers of translate.zanata.org\n\nServices/Sites Impacted:\ntranslate.zanata.org\n\nDescription:\nZanata on translate.zanata.org will be upgraded.\n\nImpact:\nThe translation framework Zanata will not be available during outage.\n\nSign Off:\nVadim Grinco\n\n
ATTENDEE;ROLE=REQ-PARTICIPANT;CUTYPE=INDIVIDUAL;RSVP=TRUE;PARTSTAT=NEEDS-ACTION:mailto:zanata-users@redhat.com
ATTENDEE;ROLE=REQ-PARTICIPANT;CUTYPE=INDIVIDUAL;RSVP=TRUE;PARTSTAT=NEEDS-ACTION:mailto:zanata-list@redhat.com
ATTENDEE;ROLE=REQ-PARTICIPANT;CUTYPE=INDIVIDUAL;RSVP=TRUE;PARTSTAT=NEEDS-ACTION:mailto:doc-i18n-list@redhat.com
ATTENDEE;ROLE=REQ-PARTICIPANT;CUTYPE=INDIVIDUAL;RSVP=TRUE;PARTSTAT=NEEDS-ACTION:mailto:outage-list@redhat.com
LAST-MODIFIED:20150925T133019Z
BEGIN:VALARM
TRIGGER:-PT5M
ACTION:DISPLAY
DESCRIPTION:translate.zanata.org Scheduled Maintenance | 28-Sep-2015 09:00:00 UTC
END:VALARM
END:VEVENT
END:VCALENDAR
