BEGIN:VCALENDAR
PRODID:-//Charnet Event Calendar//iCal4j 1.0//EN
VERSION:2.0
CALSCALE:GREGORIAN
METHOD:REQUEST
BEGIN:VEVENT
DTSTAMP:20151006T085752Z
DTSTART:20151007T070000Z
DTEND:20151007T090000Z
SUMMARY:translate.engineering.redhat.com Scheduled Maintenance | 07-Oct-2015 07:00:00 UTC
UID:e9baea82-9c12-479b-ba2f-76982929ac72@support.engineering.redhat.com
TZID:Europe/London
ORGANIZER:mailto:charnet-notification@redhat.com
DESCRIPTION:---------------------------------------------------------\n***// SCHEDULED MAINTENANCE REPORT //***\n\nPriority:\nMedium\n\nScheduled Date:\n07-Oct-2015 07:00:00 UTC\n\nEstimated Time Required:\n120 minutes\n\nPerformed By:\nttrinks\n\nPeople/Groups Impacted:\nUsers of translate.engineering.redhat.com\n\nServices/Sites Impacted:\ntranslate.engineering.redhat.com\n\nDescription:\nZanata on translate.engineering.redhat.com will be upgraded from 3.6 to 3.7.\n\nImpact:\nThe translation framework Zanata will not be available during outage.\n\nSign Off:\nVadim Grinco\n\n
ATTENDEE;ROLE=REQ-PARTICIPANT;CUTYPE=INDIVIDUAL;RSVP=TRUE;PARTSTAT=NEEDS-ACTION:mailto:zanata-users@redhat.com
ATTENDEE;ROLE=REQ-PARTICIPANT;CUTYPE=INDIVIDUAL;RSVP=TRUE;PARTSTAT=NEEDS-ACTION:mailto:zanata-list@redhat.com
ATTENDEE;ROLE=REQ-PARTICIPANT;CUTYPE=INDIVIDUAL;RSVP=TRUE;PARTSTAT=NEEDS-ACTION:mailto:doc-i18n-list@redhat.com
ATTENDEE;ROLE=REQ-PARTICIPANT;CUTYPE=INDIVIDUAL;RSVP=TRUE;PARTSTAT=NEEDS-ACTION:mailto:outage-list@redhat.com
LAST-MODIFIED:20151006T085752Z
BEGIN:VALARM
TRIGGER:-PT5M
ACTION:DISPLAY
DESCRIPTION:translate.engineering.redhat.com Scheduled Maintenance | 07-Oct-2015 07:00:00 UTC
END:VALARM
END:VEVENT
END:VCALENDAR
