BEGIN:VCALENDAR
PRODID:-//Charnet Event Calendar//iCal4j 1.0//EN
VERSION:2.0
CALSCALE:GREGORIAN
METHOD:REQUEST
BEGIN:VEVENT
DTSTAMP:20151016T093300Z
DTSTART:20151016T100000Z
DTEND:20151016T120000Z
SUMMARY:Other Scheduled Maintenance | 16-Oct-2015 10:00:00 UTC
UID:3f1a4f6e-8620-49cc-b6cf-3292b5df1208@support.engineering.redhat.com
TZID:Europe/London
ORGANIZER:mailto:charnet-notification@redhat.com
DESCRIPTION:---------------------------------------------------------\n***// SCHEDULED MAINTENANCE REPORT //***\n\nHostName:\ntranslate.engineering.redhat.com\n\nPriority:\nMedium\n\nScheduled Date:\n16-Oct-2015 10:00:00 UTC\n\nEstimated Time Required:\n120 minutes\n\nPerformed By:\nttrinks\n\nPeople/Groups Impacted:\nUsers of translate.engineering.redhat.com\n\nServices/Sites Impacted:\nOther\n\nDescription:\nZanata on translate.engineering.redhat.com will be upgraded.\n\nImpact:\nThe translation framework Zanata will not be available during outage.\n\nSign Off:\nVadim Grinco\n\n
ATTENDEE;ROLE=REQ-PARTICIPANT;CUTYPE=INDIVIDUAL;RSVP=TRUE;PARTSTAT=NEEDS-ACTION:mailto:zanata-users@redhat.com
ATTENDEE;ROLE=REQ-PARTICIPANT;CUTYPE=INDIVIDUAL;RSVP=TRUE;PARTSTAT=NEEDS-ACTION:mailto:zanata-list@redhat.com
ATTENDEE;ROLE=REQ-PARTICIPANT;CUTYPE=INDIVIDUAL;RSVP=TRUE;PARTSTAT=NEEDS-ACTION:mailto:doc-i18n-list@redhat.com
ATTENDEE;ROLE=REQ-PARTICIPANT;CUTYPE=INDIVIDUAL;RSVP=TRUE;PARTSTAT=NEEDS-ACTION:mailto:outage-list@redhat.com
LAST-MODIFIED:20151016T093300Z
BEGIN:VALARM
TRIGGER:-PT5M
ACTION:DISPLAY
DESCRIPTION:Other Scheduled Maintenance | 16-Oct-2015 10:00:00 UTC
END:VALARM
END:VEVENT
END:VCALENDAR
