BEGIN:VCALENDAR
PRODID:-//Charnet Event Calendar//iCal4j 1.0//EN
VERSION:2.0
CALSCALE:GREGORIAN
METHOD:REQUEST
BEGIN:VEVENT
DTSTAMP:20151016T095723Z
DTSTART:20151016T080000Z
DTEND:20151016T120000Z
SUMMARY:Re:Other Scheduled Maintenance | 16-Oct-2015 08:00:00 UTC
UID:5b227b6a-36ce-41ec-9f80-44e29fb7adf9@support.engineering.redhat.com
TZID:Europe/London
ORGANIZER:mailto:charnet-notification@redhat.com
DESCRIPTION:UPDATED\n\nCOMMENT ADDED BY ttrinks at 16-Oct-2015 09:57:23 UTC\nOutage complete. Zanata servicese successfully been upgraded. Please report any issues to eng-ops@redhat.com. Thanks.\n\n---------------------------------------------------------\n***// SCHEDULED MAINTENANCE REPORT //***\n\nHostName:\ntranslate.jboss.org\, translate.zanata.org\, fedora.zanata.org\n\nPriority:\nMedium\n\nScheduled Date:\n16-Oct-2015 08:00:00 UTC\n\nEstimated Time Required:\n240 minutes\n\nPerformed By:\nttrinks\n\nPeople/Groups Impacted:\nUsers of translate.jboss.org\, translate.zanata.org\, fedora.zanata.org\n\nServices/Sites Impacted:\nOther\n\nDescription:\nZanata on translate.jboss.org\, translate.zanata.org\, fedora.zanata.org will be upgraded\n\nImpact:\nThe translation framework Zanata will not be available during outage.\n\nSign Off:\nVadim Grinco\n\n
ATTENDEE;ROLE=REQ-PARTICIPANT;CUTYPE=INDIVIDUAL;RSVP=TRUE;PARTSTAT=NEEDS-ACTION:mailto:zanata-users@redhat.com
ATTENDEE;ROLE=REQ-PARTICIPANT;CUTYPE=INDIVIDUAL;RSVP=TRUE;PARTSTAT=NEEDS-ACTION:mailto:zanata-list@redhat.com
ATTENDEE;ROLE=REQ-PARTICIPANT;CUTYPE=INDIVIDUAL;RSVP=TRUE;PARTSTAT=NEEDS-ACTION:mailto:doc-i18n-list@redhat.com
ATTENDEE;ROLE=REQ-PARTICIPANT;CUTYPE=INDIVIDUAL;RSVP=TRUE;PARTSTAT=NEEDS-ACTION:mailto:outage-list@redhat.com
ATTENDEE;ROLE=REQ-PARTICIPANT;CUTYPE=INDIVIDUAL;RSVP=TRUE;PARTSTAT=NEEDS-ACTION:mailto:jboss-l10n@lists.jboss.org
LAST-MODIFIED:20151016T095723Z
BEGIN:VALARM
TRIGGER:-PT5M
ACTION:DISPLAY
DESCRIPTION:Re:Other Scheduled Maintenance | 16-Oct-2015 08:00:00 UTC
END:VALARM
END:VEVENT
END:VCALENDAR
