BEGIN:VCALENDAR
PRODID:-//Charnet Event Calendar//iCal4j 1.0//EN
VERSION:2.0
CALSCALE:GREGORIAN
METHOD:REQUEST
BEGIN:VEVENT
DTSTAMP:20151123T085126Z
DTSTART:20151124T100000Z
DTEND:20151124T110000Z
SUMMARY:Other Scheduled Maintenance | 24-Nov-2015 10:00:00 UTC
UID:63358f20-4f3a-4a10-ba32-289ac7f814e9@support.engineering.redhat.com
TZID:Europe/London
ORGANIZER:mailto:charnet-notification@redhat.com
DESCRIPTION:---------------------------------------------------------\n***// SCHEDULED MAINTENANCE REPORT //***\n\nHostName:\ntranslate.zanata.org | fedora.zanata.org\n\nPriority:\nHigh\n\nScheduled Date:\n24-Nov-2015 10:00:00 UTC\n\nEstimated Time Required:\n60 minutes\n\nPerformed By:\nvvasilev\n\nPeople/Groups Impacted:\nusers of zanata\n\nServices/Sites Impacted:\nOther\n\nDescription:\nZanata back-end database will be migrated from 5.1 to 5.6. Complete dump and import is required which will cause a few minutes outage per node. \n\nImpact:\nService will be unavailable\n\nSign Off:\nVadim Grinco\n\n
ATTENDEE;ROLE=REQ-PARTICIPANT;CUTYPE=INDIVIDUAL;RSVP=TRUE;PARTSTAT=NEEDS-ACTION:mailto:zanata-users@redhat.com
ATTENDEE;ROLE=REQ-PARTICIPANT;CUTYPE=INDIVIDUAL;RSVP=TRUE;PARTSTAT=NEEDS-ACTION:mailto:doc-i18n-list@redhat.com
ATTENDEE;ROLE=REQ-PARTICIPANT;CUTYPE=INDIVIDUAL;RSVP=TRUE;PARTSTAT=NEEDS-ACTION:mailto:outage-list@redhat.com
LAST-MODIFIED:20151123T085126Z
BEGIN:VALARM
TRIGGER:-PT5M
ACTION:DISPLAY
DESCRIPTION:Other Scheduled Maintenance | 24-Nov-2015 10:00:00 UTC
END:VALARM
END:VEVENT
END:VCALENDAR
