BEGIN:VCALENDAR
PRODID:-//Charnet Event Calendar//iCal4j 1.0//EN
VERSION:2.0
CALSCALE:GREGORIAN
METHOD:REQUEST
BEGIN:VEVENT
DTSTAMP:20151123T100832Z
DTSTART:20151123T120000Z
DTEND:20151123T123000Z
SUMMARY:Other Scheduled Maintenance | 23-Nov-2015 12:00:00 UTC
UID:e8e88ef2-fb1b-42ed-a58f-f3f4166cd580@support.engineering.redhat.com
TZID:Europe/London
ORGANIZER:mailto:charnet-notification@redhat.com
DESCRIPTION:---------------------------------------------------------\n***// SCHEDULED MAINTENANCE REPORT //***\n\nHostName:\nvarious jboss.org sites\n\nPriority:\nHigh\n\nScheduled Date:\n23-Nov-2015 12:00:00 UTC\n\nEstimated Time Required:\n30 minutes\n\nPerformed By:\nvvasilev\n\nPeople/Groups Impacted:\nusers of the sites below\n\nServices/Sites Impacted:\nOther\n\nDescription:\nCritical security update will be applied. \nMore info at https://rhn.redhat.com/errata/RHSA-2015-2500.html\n\nImpact:\nThe following sites will be unavailable for short period of time:\nplanet.jboss.org\ndcp.jboss.org\ndcp2.jboss.org\nfedora.zanata.org\ntranslate.jboss.org\ntranslate.zanata.org\n\nSign Off:\nVadim Grinco\n\n
ATTENDEE;ROLE=REQ-PARTICIPANT;CUTYPE=INDIVIDUAL;RSVP=TRUE;PARTSTAT=NEEDS-ACTION:mailto:zanata-users@redhat.com
ATTENDEE;ROLE=REQ-PARTICIPANT;CUTYPE=INDIVIDUAL;RSVP=TRUE;PARTSTAT=NEEDS-ACTION:mailto:jboss-dev-all@redhat.com
ATTENDEE;ROLE=REQ-PARTICIPANT;CUTYPE=INDIVIDUAL;RSVP=TRUE;PARTSTAT=NEEDS-ACTION:mailto:doc-i18n-list@redhat.com
ATTENDEE;ROLE=REQ-PARTICIPANT;CUTYPE=INDIVIDUAL;RSVP=TRUE;PARTSTAT=NEEDS-ACTION:mailto:outage-list@redhat.com
LAST-MODIFIED:20151123T100832Z
BEGIN:VALARM
TRIGGER:-PT5M
ACTION:DISPLAY
DESCRIPTION:Other Scheduled Maintenance | 23-Nov-2015 12:00:00 UTC
END:VALARM
END:VEVENT
END:VCALENDAR
