BEGIN:VCALENDAR
PRODID:-//Charnet Event Calendar//iCal4j 1.0//EN
VERSION:2.0
CALSCALE:GREGORIAN
METHOD:REQUEST
BEGIN:VEVENT
DTSTAMP:20160125T172254Z
DTSTART:20160127T133000Z
DTEND:20160127T134500Z
SUMMARY:https://translate.zanata.org Scheduled Maintenance | 27-Jan-2016 13:30:00 UTC
UID:17e73802-0a58-4a4f-9c71-aca5eb8611b7@support.engineering.redhat.com
TZID:Europe/London
ORGANIZER:mailto:charnet-notification@redhat.com
DESCRIPTION:---------------------------------------------------------\n***// SCHEDULED MAINTENANCE REPORT //***\n\nHostName:\nhttps://translate.zanata.org\n\nPriority:\nHigh\n\nScheduled Date:\n27-Jan-2016 13:30:00 UTC\n\nEstimated Time Required:\n15 minutes\n\nPerformed By:\nvvasilev\n\nPeople/Groups Impacted:\nusers of zanata\n\nServices/Sites Impacted:\nhttps://translate.zanata.org\n\nDescription:\nUpdate to zanata 3.8.2\n\nImpact:\nService will be unavailable\n\nSign Off:\nVadim Grinco\n\n
ATTENDEE;ROLE=REQ-PARTICIPANT;CUTYPE=INDIVIDUAL;RSVP=TRUE;PARTSTAT=NEEDS-ACTION:mailto:zanata-users@redhat.com
ATTENDEE;ROLE=REQ-PARTICIPANT;CUTYPE=INDIVIDUAL;RSVP=TRUE;PARTSTAT=NEEDS-ACTION:mailto:doc-i18n-list@redhat.com
ATTENDEE;ROLE=REQ-PARTICIPANT;CUTYPE=INDIVIDUAL;RSVP=TRUE;PARTSTAT=NEEDS-ACTION:mailto:outage-list@redhat.com
LAST-MODIFIED:20160125T172254Z
BEGIN:VALARM
TRIGGER:-PT5M
ACTION:DISPLAY
DESCRIPTION:https://translate.zanata.org Scheduled Maintenance | 27-Jan-2016 13:30:00 UTC
END:VALARM
END:VEVENT
END:VCALENDAR
