BEGIN:VCALENDAR
PRODID:-//Charnet Event Calendar//iCal4j 1.0//EN
VERSION:2.0
CALSCALE:GREGORIAN
METHOD:REQUEST
BEGIN:VEVENT
DTSTAMP:20160128T093533Z
DTSTART:20160201T130000Z
DTEND:20160201T131500Z
SUMMARY:http://fedora.zanata.org/ Scheduled Maintenance | 01-Feb-2016 13:00:00 UTC
UID:d9617a48-5ff4-4b11-a541-e40616416f39@support.engineering.redhat.com
TZID:Europe/London
ORGANIZER:mailto:charnet-notification@redhat.com
DESCRIPTION:---------------------------------------------------------\n***// SCHEDULED MAINTENANCE REPORT //***\n\nHostName:\nzanata-fedora.app.mwc.hst.phx2.redhat.com\n\nPriority:\nMedium\n\nScheduled Date:\n01-Feb-2016 13:00:00 UTC\n\nEstimated Time Required:\n15 minutes\n\nPerformed By:\nvvasilev\n\nPeople/Groups Impacted:\nusers of zanata\n\nServices/Sites Impacted:\nhttp://fedora.zanata.org/\n\nDescription:\nUpdate to zanata 3.8.2\n\nImpact:\nService will be unavailable\n\nSign Off:\nVadim Grinco\n\n
ATTENDEE;ROLE=REQ-PARTICIPANT;CUTYPE=INDIVIDUAL;RSVP=TRUE;PARTSTAT=NEEDS-ACTION:mailto:zanata-users@redhat.com
ATTENDEE;ROLE=REQ-PARTICIPANT;CUTYPE=INDIVIDUAL;RSVP=TRUE;PARTSTAT=NEEDS-ACTION:mailto:doc-i18n-list@redhat.com
ATTENDEE;ROLE=REQ-PARTICIPANT;CUTYPE=INDIVIDUAL;RSVP=TRUE;PARTSTAT=NEEDS-ACTION:mailto:outage-list@redhat.com
LAST-MODIFIED:20160128T093533Z
BEGIN:VALARM
TRIGGER:-PT5M
ACTION:DISPLAY
DESCRIPTION:http://fedora.zanata.org/ Scheduled Maintenance | 01-Feb-2016 13:00:00 UTC
END:VALARM
END:VEVENT
END:VCALENDAR
