BEGIN:VCALENDAR
PRODID:-//Charnet Event Calendar//iCal4j 1.0//EN
VERSION:2.0
CALSCALE:GREGORIAN
METHOD:REQUEST
BEGIN:VEVENT
DTSTAMP:20160205T045856Z
DTSTART:20160209T040000Z
DTEND:20160209T043000Z
SUMMARY:Zanata (translate.engineering.redhat.com) Scheduled Maintenance | 09-Feb-2016 04:00:00 UTC
UID:c3b50a9f-5828-47f4-a19a-92bfa5eb0e90@support.engineering.redhat.com
TZID:Europe/London
ORGANIZER:mailto:charnet-notification@redhat.com
DESCRIPTION:---------------------------------------------------------\n***// SCHEDULED MAINTENANCE REPORT //***\n\nHostName:\ntranslate.engineering.redhat.com\n\nPriority:\nMedium\n\nScheduled Date:\n09-Feb-2016 04:00:00 UTC\n\nEstimated Time Required:\n30 minutes\n\nPerformed By:\nttrinks\n\nPeople/Groups Impacted:\nTranslators using Zanata on translate.engineering.redhat.com\n\nServices/Sites Impacted:\nZanata (translate.engineering.redhat.com)\n\nDescription:\nPlanned upgrade to Zanata 3.8.2.\n\nImpact:\nThe Zanata translation framework will not be available during the outage.\n\nSign Off:\nVadim Grinco\n\n
ATTENDEE;ROLE=REQ-PARTICIPANT;CUTYPE=INDIVIDUAL;RSVP=TRUE;PARTSTAT=NEEDS-ACTION:mailto:zanata-users@redhat.com
ATTENDEE;ROLE=REQ-PARTICIPANT;CUTYPE=INDIVIDUAL;RSVP=TRUE;PARTSTAT=NEEDS-ACTION:mailto:zanata-list@redhat.com
ATTENDEE;ROLE=REQ-PARTICIPANT;CUTYPE=INDIVIDUAL;RSVP=TRUE;PARTSTAT=NEEDS-ACTION:mailto:doc-i18n-list@redhat.com
ATTENDEE;ROLE=REQ-PARTICIPANT;CUTYPE=INDIVIDUAL;RSVP=TRUE;PARTSTAT=NEEDS-ACTION:mailto:outage-list@redhat.com
LAST-MODIFIED:20160205T045856Z
BEGIN:VALARM
TRIGGER:-PT5M
ACTION:DISPLAY
DESCRIPTION:Zanata (translate.engineering.redhat.com) Scheduled Maintenance | 09-Feb-2016 04:00:00 UTC
END:VALARM
END:VEVENT
END:VCALENDAR
