BEGIN:VCALENDAR
PRODID:-//Charnet Event Calendar//iCal4j 1.0//EN
VERSION:2.0
CALSCALE:GREGORIAN
METHOD:REQUEST
BEGIN:VEVENT
DTSTAMP:20160210T085656Z
DTSTART:20160210T084500Z
DTEND:20160210T090000Z
SUMMARY:Re:http://translate.zanata.org Incident | 10-Feb-2016 08:45:00 UTC
UID:84c1e4cc-4858-48d4-87ef-ac6b89749ebe@support.engineering.redhat.com
TZID:Europe/London
ORGANIZER:mailto:charnet-notification@redhat.com
DESCRIPTION:UPDATED\n\nCOMMENT ADDED BY vvasilev at 10-Feb-2016 08:56:56 UTC\nService is up now. There was a big memory usage and EAP had to be restarted.\n\n---------------------------------------------------------\n***// INCIDENT REPORT //***\n\nHostName:\n\n\nIncident Date:\n10-Feb-2016 08:45:00 UTC\n\nElapsed Time of Incident:\n15 minutes\n\nPerformed By:\nvvasilev\n\nPeople/Groups Impacted:\nusers of zanata\n\nServices/Sites Impacted:\nhttp://translate.zanata.org\n\nImpact:\nZanata is unresponsive \n\n
ATTENDEE;ROLE=REQ-PARTICIPANT;CUTYPE=INDIVIDUAL;RSVP=TRUE;PARTSTAT=NEEDS-ACTION:mailto:zanata-users@redhat.com
ATTENDEE;ROLE=REQ-PARTICIPANT;CUTYPE=INDIVIDUAL;RSVP=TRUE;PARTSTAT=NEEDS-ACTION:mailto:outage-list@redhat.com
LAST-MODIFIED:20160210T085656Z
BEGIN:VALARM
TRIGGER:-PT5M
ACTION:DISPLAY
DESCRIPTION:Re:http://translate.zanata.org Incident | 10-Feb-2016 08:45:00 UTC
END:VALARM
END:VEVENT
END:VCALENDAR
