BEGIN:VCALENDAR
PRODID:-//Charnet Event Calendar//iCal4j 1.0//EN
VERSION:2.0
CALSCALE:GREGORIAN
METHOD:REQUEST
BEGIN:VEVENT
DTSTAMP:20160226T061333Z
DTSTART:20160226T110000Z
DTEND:20160226T130000Z
SUMMARY:Internal Zanata instance Scheduled Maintenance | 26-Feb-2016 11:00:00 UTC
UID:e13746e6-aea1-4793-8dc4-44048b7cfde8@support.engineering.redhat.com
TZID:Europe/London
ORGANIZER:mailto:charnet-notification@redhat.com
DESCRIPTION:---------------------------------------------------------\n***// SCHEDULED MAINTENANCE REPORT //***\n\nHostName:\ntranslate.engineering.redhat.com\n\nPriority:\nHigh\n\nScheduled Date:\n26-Feb-2016 11:00:00 UTC\n\nEstimated Time Required:\n120 minutes\n\nPerformed By:\nttrinks\n\nPeople/Groups Impacted:\nZanata users on translate.engineering.redhat.com\n\nServices/Sites Impacted:\nInternal Zanata instance\n\nDescription:\nThe VM needs to be shut down in order to remove some obsolete snapshots.\n\nImpact:\nZanata on translate.engineering.redhat.com will not be able for the duration of the outage.\n\nSign Off:\nVadim Grinco\n\n
ATTENDEE;ROLE=REQ-PARTICIPANT;CUTYPE=INDIVIDUAL;RSVP=TRUE;PARTSTAT=NEEDS-ACTION:mailto:zanata-users@redhat.com
ATTENDEE;ROLE=REQ-PARTICIPANT;CUTYPE=INDIVIDUAL;RSVP=TRUE;PARTSTAT=NEEDS-ACTION:mailto:zanata-list@redhat.com
ATTENDEE;ROLE=REQ-PARTICIPANT;CUTYPE=INDIVIDUAL;RSVP=TRUE;PARTSTAT=NEEDS-ACTION:mailto:outage-list@redhat.com
LAST-MODIFIED:20160226T061333Z
BEGIN:VALARM
TRIGGER:-PT5M
ACTION:DISPLAY
DESCRIPTION:Internal Zanata instance Scheduled Maintenance | 26-Feb-2016 11:00:00 UTC
END:VALARM
END:VEVENT
END:VCALENDAR
