BEGIN:VCALENDAR
PRODID:-//Charnet Event Calendar//iCal4j 1.0//EN
VERSION:2.0
CALSCALE:GREGORIAN
METHOD:REQUEST
BEGIN:VEVENT
DTSTAMP:20160307T063144Z
DTSTART:20160308T020000Z
DTEND:20160308T023000Z
SUMMARY:Zanata on translate.zanata.org Scheduled Maintenance | 08-Mar-2016 02:00:00 UTC
UID:7ae2794b-7cdc-4dfe-b18a-47fb180af425@support.engineering.redhat.com
TZID:Europe/London
ORGANIZER:mailto:charnet-notification@redhat.com
DESCRIPTION:---------------------------------------------------------\n***// SCHEDULED MAINTENANCE REPORT //***\n\nHostName:\ntranslate.zanata.org\n\nPriority:\nMedium\n\nScheduled Date:\n08-Mar-2016 02:00:00 UTC\n\nEstimated Time Required:\n30 minutes\n\nPerformed By:\nttrinks\n\nPeople/Groups Impacted:\nUsers of translate.zanata.org\n\nServices/Sites Impacted:\nZanata on translate.zanata.org\n\nDescription:\nThe root context on translate.zanata.org will be made consistent with the other Zanata services.\n\nImpact:\nThe translation framework Zanata will not be available during outage.\n\nSign Off:\nMarc Raaz\n\n
ATTENDEE;ROLE=REQ-PARTICIPANT;CUTYPE=INDIVIDUAL;RSVP=TRUE;PARTSTAT=NEEDS-ACTION:mailto:zanata-users@redhat.com
ATTENDEE;ROLE=REQ-PARTICIPANT;CUTYPE=INDIVIDUAL;RSVP=TRUE;PARTSTAT=NEEDS-ACTION:mailto:zanata-list@redhat.com
ATTENDEE;ROLE=REQ-PARTICIPANT;CUTYPE=INDIVIDUAL;RSVP=TRUE;PARTSTAT=NEEDS-ACTION:mailto:doc-i18n-list@redhat.com
ATTENDEE;ROLE=REQ-PARTICIPANT;CUTYPE=INDIVIDUAL;RSVP=TRUE;PARTSTAT=NEEDS-ACTION:mailto:outage-list@redhat.com
LAST-MODIFIED:20160307T063144Z
BEGIN:VALARM
TRIGGER:-PT5M
ACTION:DISPLAY
DESCRIPTION:Zanata on translate.zanata.org Scheduled Maintenance | 08-Mar-2016 02:00:00 UTC
END:VALARM
END:VEVENT
END:VCALENDAR
