BEGIN:VCALENDAR
PRODID:-//Charnet Event Calendar//iCal4j 1.0//EN
VERSION:2.0
CALSCALE:GREGORIAN
METHOD:REQUEST
BEGIN:VEVENT
DTSTAMP:20160407T053051Z
DTSTART:20160407T223000Z
DTEND:20160407T231500Z
SUMMARY:Zanata on translate.engineering.redhat.com Scheduled Maintenance | 07-Apr-2016 22:30:00 UTC
UID:02d7286c-8712-4c9a-98a1-3903a8abcd9b@support.engineering.redhat.com
TZID:Europe/London
ORGANIZER:mailto:charnet-notification@redhat.com
DESCRIPTION:---------------------------------------------------------\n***// SCHEDULED MAINTENANCE REPORT //***\n\nHostName:\ntranslate.engineering.redhat.com\n\nPriority:\nMedium\n\nScheduled Date:\n07-Apr-2016 22:30:00 UTC\n\nEstimated Time Required:\n45 minutes\n\nPerformed By:\nttrinks\n\nPeople/Groups Impacted:\nUsers of Zanata on translate.engineering.redhat.com\n\nServices/Sites Impacted:\nZanata on translate.engineering.redhat.com\n\nDescription:\nUpgrade to 3.8.3-2\n\nImpact:\nThe translation framework Zanata will not be available during outage.\n\n\nSign Off:\nMarc Raaz\n\n
ATTENDEE;ROLE=REQ-PARTICIPANT;CUTYPE=INDIVIDUAL;RSVP=TRUE;PARTSTAT=NEEDS-ACTION:mailto:zanata-users@redhat.com
ATTENDEE;ROLE=REQ-PARTICIPANT;CUTYPE=INDIVIDUAL;RSVP=TRUE;PARTSTAT=NEEDS-ACTION:mailto:doc-i18n-list@redhat.com
ATTENDEE;ROLE=REQ-PARTICIPANT;CUTYPE=INDIVIDUAL;RSVP=TRUE;PARTSTAT=NEEDS-ACTION:mailto:outage-list@redhat.com
LAST-MODIFIED:20160407T053051Z
BEGIN:VALARM
TRIGGER:-PT5M
ACTION:DISPLAY
DESCRIPTION:Zanata on translate.engineering.redhat.com Scheduled Maintenance | 07-Apr-2016 22:30:00 UTC
END:VALARM
END:VEVENT
END:VCALENDAR
