BEGIN:VCALENDAR
PRODID:-//Charnet Event Calendar//iCal4j 1.0//EN
VERSION:2.0
CALSCALE:GREGORIAN
METHOD:REQUEST
BEGIN:VEVENT
DTSTAMP:20160411T021917Z
DTSTART:20160411T223000Z
DTEND:20160411T233000Z
SUMMARY:Other Scheduled Maintenance | 11-Apr-2016 22:30:00 UTC
UID:966c7808-e182-44fc-95b2-fafa6bd4e028@support.engineering.redhat.com
TZID:Europe/London
ORGANIZER:mailto:charnet-notification@redhat.com
DESCRIPTION:---------------------------------------------------------\n***// SCHEDULED MAINTENANCE REPORT //***\n\nHostName:\ntranslate.zanata.org\, translate.jboss.org\, fedora.zanata.org\n\nPriority:\nMedium\n\nScheduled Date:\n11-Apr-2016 22:30:00 UTC\n\nEstimated Time Required:\n60 minutes\n\nPerformed By:\nttrinks\n\nPeople/Groups Impacted:\nUsers of translate.zanata.org\, translate.jboss.org\, fedora.zanata.org\n\nServices/Sites Impacted:\nOther\n\nDescription:\nZanata on translate.zanata.org\, translate.jboss.org\, fedora.zanata.org will be upgraded.\n\nImpact:\nThe translation framework Zanata will not be available during outage.\n\nSign Off:\nMarc Raaz\n\n
ATTENDEE;ROLE=REQ-PARTICIPANT;CUTYPE=INDIVIDUAL;RSVP=TRUE;PARTSTAT=NEEDS-ACTION:mailto:zanata-users@redhat.com
ATTENDEE;ROLE=REQ-PARTICIPANT;CUTYPE=INDIVIDUAL;RSVP=TRUE;PARTSTAT=NEEDS-ACTION:mailto:zanata-list@redhat.com
ATTENDEE;ROLE=REQ-PARTICIPANT;CUTYPE=INDIVIDUAL;RSVP=TRUE;PARTSTAT=NEEDS-ACTION:mailto:doc-i18n-list@redhat.com
ATTENDEE;ROLE=REQ-PARTICIPANT;CUTYPE=INDIVIDUAL;RSVP=TRUE;PARTSTAT=NEEDS-ACTION:mailto:outage-list@redhat.com
LAST-MODIFIED:20160411T021917Z
BEGIN:VALARM
TRIGGER:-PT5M
ACTION:DISPLAY
DESCRIPTION:Other Scheduled Maintenance | 11-Apr-2016 22:30:00 UTC
END:VALARM
END:VEVENT
END:VCALENDAR
