BEGIN:VCALENDAR
PRODID:-//Charnet Event Calendar//iCal4j 1.0//EN
VERSION:2.0
CALSCALE:GREGORIAN
METHOD:REQUEST
BEGIN:VEVENT
DTSTAMP:20160505T085311Z
DTSTART:20160505T220000Z
DTEND:20160505T230000Z
SUMMARY:translate.engineering.redhat.com Scheduled Maintenance | 05-May-2016 22:00:00 UTC
UID:2711cfb5-c815-4c47-b256-b0305abd68ea@support.engineering.redhat.com
TZID:Europe/London
ORGANIZER:mailto:charnet-notification@redhat.com
DESCRIPTION:---------------------------------------------------------\n***// SCHEDULED MAINTENANCE REPORT //***\n\nHostName:\ntranslate.engineering.redhat.com\n\nPriority:\nMedium\n\nScheduled Date:\n05-May-2016 22:00:00 UTC\n\nEstimated Time Required:\n60 minutes\n\nPerformed By:\nttrinks\n\nPeople/Groups Impacted:\nUsers of Zanata on translate.engineering.redhat.com\n\nServices/Sites Impacted:\ntranslate.engineering.redhat.com\n\nDescription:\nApplication upgrade.\n\nImpact:\nZanata will not be available for the duration of the outage.\n\nSign Off:\nMarc Raaz\n\n
ATTENDEE;ROLE=REQ-PARTICIPANT;CUTYPE=INDIVIDUAL;RSVP=TRUE;PARTSTAT=NEEDS-ACTION:mailto:zanata-users@redhat.com
ATTENDEE;ROLE=REQ-PARTICIPANT;CUTYPE=INDIVIDUAL;RSVP=TRUE;PARTSTAT=NEEDS-ACTION:mailto:zanata-list@redhat.com
ATTENDEE;ROLE=REQ-PARTICIPANT;CUTYPE=INDIVIDUAL;RSVP=TRUE;PARTSTAT=NEEDS-ACTION:mailto:doc-i18n-list@redhat.com
ATTENDEE;ROLE=REQ-PARTICIPANT;CUTYPE=INDIVIDUAL;RSVP=TRUE;PARTSTAT=NEEDS-ACTION:mailto:outage-list@redhat.com
LAST-MODIFIED:20160505T085311Z
BEGIN:VALARM
TRIGGER:-PT5M
ACTION:DISPLAY
DESCRIPTION:translate.engineering.redhat.com Scheduled Maintenance | 05-May-2016 22:00:00 UTC
END:VALARM
END:VEVENT
END:VCALENDAR
