BEGIN:VCALENDAR
PRODID:-//Charnet Event Calendar//iCal4j 1.0//EN
VERSION:2.0
CALSCALE:GREGORIAN
METHOD:REQUEST
BEGIN:VEVENT
DTSTAMP:20160714T020549Z
DTSTART:20160714T220000Z
DTEND:20160714T230000Z
SUMMARY:Other Scheduled Maintenance | 14-Jul-2016 22:00:00 UTC
UID:fdd20bb9-e38f-45aa-9eec-59fd84abcd9c@support.engineering.redhat.com
TZID:Europe/London
ORGANIZER:mailto:charnet-notification@redhat.com
DESCRIPTION:---------------------------------------------------------\n***// SCHEDULED MAINTENANCE REPORT //***\n\nHostName:\ntranslate.zanata.org\, translate.jboss.org\, fedora.zanata.org\n\nPriority:\nMedium\n\nScheduled Date:\n14-Jul-2016 22:00:00 UTC\n\nEstimated Time Required:\n60 minutes\n\nPerformed By:\nttrinks\n\nPeople/Groups Impacted:\nUsers of translate.zanata.org\, translate.jboss.org\, fedora.zanata.org\n\nServices/Sites Impacted:\nOther\n\nDescription:\nZanata on translate.zanata.org\, translate.jboss.org\, fedora.zanata.org will be upgraded to 3.9.1-1.\n\nImpact:\nZanata on translate.zanata.org\, translate.jboss.org\, fedora.zanata.org will not be available during the outage.\n\nSign Off:\nMarc Raaz\n\n
ATTENDEE;ROLE=REQ-PARTICIPANT;CUTYPE=INDIVIDUAL;RSVP=TRUE;PARTSTAT=NEEDS-ACTION:mailto:zanata-users@redhat.com
ATTENDEE;ROLE=REQ-PARTICIPANT;CUTYPE=INDIVIDUAL;RSVP=TRUE;PARTSTAT=NEEDS-ACTION:mailto:zanata-list@redhat.com
ATTENDEE;ROLE=REQ-PARTICIPANT;CUTYPE=INDIVIDUAL;RSVP=TRUE;PARTSTAT=NEEDS-ACTION:mailto:doc-i18n-list@redhat.com
ATTENDEE;ROLE=REQ-PARTICIPANT;CUTYPE=INDIVIDUAL;RSVP=TRUE;PARTSTAT=NEEDS-ACTION:mailto:outage-list@redhat.com
LAST-MODIFIED:20160714T020549Z
BEGIN:VALARM
TRIGGER:-PT5M
ACTION:DISPLAY
DESCRIPTION:Other Scheduled Maintenance | 14-Jul-2016 22:00:00 UTC
END:VALARM
END:VEVENT
END:VCALENDAR
