BEGIN:VCALENDAR
PRODID:-//Charnet Event Calendar//iCal4j 1.0//EN
VERSION:2.0
CALSCALE:GREGORIAN
METHOD:REQUEST
BEGIN:VEVENT
DTSTAMP:20160728T013223Z
DTSTART:20160728T220000Z
DTEND:20160728T230000Z
SUMMARY:translate.zanata.org\, translate.jboss.org\, fedora.zanata.org Scheduled Maintenance | 28-Jul-2016 22:00:00 UTC
UID:94897102-d398-49e2-a9c2-5cf8ca5c4db4@support.engineering.redhat.com
TZID:Europe/London
ORGANIZER:mailto:charnet-notification@redhat.com
DESCRIPTION:---------------------------------------------------------\n***// SCHEDULED MAINTENANCE REPORT //***\n\nHostName:\ntranslate.zanata.org\, translate.jboss.org\, fedora.zanata.org\n\nPriority:\nMedium\n\nScheduled Date:\n28-Jul-2016 22:00:00 UTC\n\nEstimated Time Required:\n60 minutes\n\nPerformed By:\nttrinks\n\nPeople/Groups Impacted:\nUsers of translate.zanata.org\, translate.jboss.org\, fedora.zanata.org\n\nServices/Sites Impacted:\ntranslate.zanata.org\, translate.jboss.org\, fedora.zanata.org\n\nDescription:\nThe Zanata service will be upgraded.\n\nImpact:\nThe translation framework Zanata will not be available during outage.\n\nSign Off:\nMarc Raaz\n\n
ATTENDEE;ROLE=REQ-PARTICIPANT;CUTYPE=INDIVIDUAL;RSVP=TRUE;PARTSTAT=NEEDS-ACTION:mailto:zanata-users@redhat.com
ATTENDEE;ROLE=REQ-PARTICIPANT;CUTYPE=INDIVIDUAL;RSVP=TRUE;PARTSTAT=NEEDS-ACTION:mailto:zanata-list@redhat.com
ATTENDEE;ROLE=REQ-PARTICIPANT;CUTYPE=INDIVIDUAL;RSVP=TRUE;PARTSTAT=NEEDS-ACTION:mailto:doc-i18n-list@redhat.com
ATTENDEE;ROLE=REQ-PARTICIPANT;CUTYPE=INDIVIDUAL;RSVP=TRUE;PARTSTAT=NEEDS-ACTION:mailto:outage-list@redhat.com
LAST-MODIFIED:20160728T013223Z
BEGIN:VALARM
TRIGGER:-PT5M
ACTION:DISPLAY
DESCRIPTION:translate.zanata.org\, translate.jboss.org\, fedora.zanata.org Scheduled Maintenance | 28-Jul-2016 22:00:00 UTC
END:VALARM
END:VEVENT
END:VCALENDAR
