BEGIN:VCALENDAR
PRODID:-//Charnet Event Calendar//iCal4j 1.0//EN
VERSION:2.0
CALSCALE:GREGORIAN
METHOD:REQUEST
BEGIN:VEVENT
DTSTAMP:20160729T044024Z
DTSTART:20160729T050000Z
DTEND:20160729T051500Z
SUMMARY:translate.zanata.org Scheduled Maintenance | 29-Jul-2016 05:00:00 UTC
UID:61188bd2-3126-4cc4-bcdd-5f38460cea19@support.engineering.redhat.com
TZID:Europe/London
ORGANIZER:mailto:charnet-notification@redhat.com
DESCRIPTION:---------------------------------------------------------\n***// SCHEDULED MAINTENANCE REPORT //***\n\nHostName:\ntranslate.zanata.org\n\nPriority:\nHigh\n\nScheduled Date:\n29-Jul-2016 05:00:00 UTC\n\nEstimated Time Required:\n15 minutes\n\nPerformed By:\nttrinks\n\nPeople/Groups Impacted:\nUsers of Zanata on translate.zanata.org\n\nServices/Sites Impacted:\ntranslate.zanata.org\n\nDescription:\nRestart needed to mitigate an issue with jdbc connections.\n\nImpact:\nZanata won't be available during restart.\n\nSign Off:\nMarc Raaz\n\n
ATTENDEE;ROLE=REQ-PARTICIPANT;CUTYPE=INDIVIDUAL;RSVP=TRUE;PARTSTAT=NEEDS-ACTION:mailto:zanata-users@redhat.com
ATTENDEE;ROLE=REQ-PARTICIPANT;CUTYPE=INDIVIDUAL;RSVP=TRUE;PARTSTAT=NEEDS-ACTION:mailto:zanata-list@redhat.com
ATTENDEE;ROLE=REQ-PARTICIPANT;CUTYPE=INDIVIDUAL;RSVP=TRUE;PARTSTAT=NEEDS-ACTION:mailto:doc-i18n-list@redhat.com
ATTENDEE;ROLE=REQ-PARTICIPANT;CUTYPE=INDIVIDUAL;RSVP=TRUE;PARTSTAT=NEEDS-ACTION:mailto:outage-list@redhat.com
LAST-MODIFIED:20160729T044024Z
BEGIN:VALARM
TRIGGER:-PT5M
ACTION:DISPLAY
DESCRIPTION:translate.zanata.org Scheduled Maintenance | 29-Jul-2016 05:00:00 UTC
END:VALARM
END:VEVENT
END:VCALENDAR
