BEGIN:VCALENDAR
PRODID:-//Charnet Event Calendar//iCal4j 1.0//EN
VERSION:2.0
CALSCALE:GREGORIAN
METHOD:REQUEST
BEGIN:VEVENT
DTSTAMP:20161021T052553Z
DTSTART:20161023T220000Z
DTEND:20161023T230000Z
SUMMARY:translate.zanata.org\, translate.jboss.org\, fedora.zanata.org Scheduled Maintenance | 23-Oct-2016 22:00:00 UTC
UID:6ac5ccdb-ca4d-41d5-b58a-86db9605d880@support.engineering.redhat.com
TZID:Europe/London
ORGANIZER:mailto:charnet-notification@redhat.com
DESCRIPTION:---------------------------------------------------------\n***// SCHEDULED MAINTENANCE REPORT //***\n\nHostName:\ntranslate.zanata.org\, translate.jboss.org\, fedora.zanata.org\n\nPriority:\nMedium\n\nScheduled Date:\n23-Oct-2016 22:00:00 UTC\n\nEstimated Time Required:\n60 minutes\n\nPerformed By:\nttrinks\n\nPeople/Groups Impacted:\nUsers of translate.zanata.org\, translate.jboss.org\, fedora.zanata.org\n\nServices/Sites Impacted:\ntranslate.zanata.org\, translate.jboss.org\, fedora.zanata.org\n\nDescription:\nUpgrade to 3.9.6 including bug fixes.\n\nImpact:\nZanata will not be available during the outage.\n\nSign Off:\nMarc Raaz\n\n
ATTENDEE;ROLE=REQ-PARTICIPANT;CUTYPE=INDIVIDUAL;RSVP=TRUE;PARTSTAT=NEEDS-ACTION:mailto:zanata-users@redhat.com
ATTENDEE;ROLE=REQ-PARTICIPANT;CUTYPE=INDIVIDUAL;RSVP=TRUE;PARTSTAT=NEEDS-ACTION:mailto:zanata-list@redhat.com
ATTENDEE;ROLE=REQ-PARTICIPANT;CUTYPE=INDIVIDUAL;RSVP=TRUE;PARTSTAT=NEEDS-ACTION:mailto:doc-i18n-list@redhat.com
ATTENDEE;ROLE=REQ-PARTICIPANT;CUTYPE=INDIVIDUAL;RSVP=TRUE;PARTSTAT=NEEDS-ACTION:mailto:outage-list@redhat.com
LAST-MODIFIED:20161021T052553Z
BEGIN:VALARM
TRIGGER:-PT5M
ACTION:DISPLAY
DESCRIPTION:translate.zanata.org\, translate.jboss.org\, fedora.zanata.org Scheduled Maintenance | 23-Oct-2016 22:00:00 UTC
END:VALARM
END:VEVENT
END:VCALENDAR
