BEGIN:VCALENDAR
PRODID:-//Charnet Event Calendar//iCal4j 1.0//EN
VERSION:2.0
CALSCALE:GREGORIAN
METHOD:REQUEST
BEGIN:VEVENT
DTSTAMP:20171026T064411Z
DTSTART:20171026T213000Z
DTEND:20171026T223000Z
SUMMARY:Re:Zanata (translate.engineering.redhat.com) Scheduled Maintenance | 26-Oct-2017 21:30:00 UTC
UID:e9fb41e2-370e-48e7-952d-ddb2d605e79a@support.engineering.redhat.com
TZID:Europe/London
ORGANIZER:mailto:charnet-notification@redhat.com
DESCRIPTION:UPDATED\n\n***// SCHEDULED MAINTENANCE REPORT //***\n\nHostName:\ntranslate.engineering.redhat.com\n\nPriority:\nMedium\n\nScheduled Date:\n26-Oct-2017 21:30:00 UTC\n\nEstimated Time Required:\n60 minutes\n\nPerformed By:\nttrinks\n\nPeople/Groups Impacted:\nZanata users\n\nServices/Sites Impacted:\nZanata (translate.engineering.redhat.com)\n\nDescription:\nUpgrade Zanata to 4.3.0-1 (ZANATA-1456)\n\nImpact:\nThe Zanata translation platform won't be available for the duration of the outage.\n\nSign Off:\nMarc Raaz\n\n
ATTENDEE;ROLE=REQ-PARTICIPANT;CUTYPE=INDIVIDUAL;RSVP=TRUE;PARTSTAT=NEEDS-ACTION:mailto:zanata-users@redhat.com
ATTENDEE;ROLE=REQ-PARTICIPANT;CUTYPE=INDIVIDUAL;RSVP=TRUE;PARTSTAT=NEEDS-ACTION:mailto:zanata-list@redhat.com
ATTENDEE;ROLE=REQ-PARTICIPANT;CUTYPE=INDIVIDUAL;RSVP=TRUE;PARTSTAT=NEEDS-ACTION:mailto:doc-i18n-list@redhat.com
ATTENDEE;ROLE=REQ-PARTICIPANT;CUTYPE=INDIVIDUAL;RSVP=TRUE;PARTSTAT=NEEDS-ACTION:mailto:outage-list@redhat.com
LAST-MODIFIED:20171026T064411Z
BEGIN:VALARM
TRIGGER:-PT5M
ACTION:DISPLAY
DESCRIPTION:Re:Zanata (translate.engineering.redhat.com) Scheduled Maintenance | 26-Oct-2017 21:30:00 UTC
END:VALARM
END:VEVENT
END:VCALENDAR
