BEGIN:VCALENDAR
PRODID:-//Charnet Event Calendar//iCal4j 1.0//EN
VERSION:2.0
CALSCALE:GREGORIAN
METHOD:REQUEST
BEGIN:VEVENT
DTSTAMP:20171121T091927Z
DTSTART:20171121T100000Z
DTEND:20171121T110000Z
SUMMARY:planet\,dcp\,zanata jboss.org Scheduled Maintenance | 21-Nov-2017 10:00:00 UTC
UID:ab8b2b73-a850-441d-988a-26575e13ecf4@support.engineering.redhat.com
TZID:Europe/London
ORGANIZER:mailto:charnet-notification@redhat.com
DESCRIPTION:---------------------------------------------------------\n***// SCHEDULED MAINTENANCE REPORT //***\n\nHostName:\nvarious jboss.org\n\nPriority:\nHigh\n\nScheduled Date:\n21-Nov-2017 10:00:00 UTC\n\nEstimated Time Required:\n60 minutes\n\nPerformed By:\nvvasilev\n\nPeople/Groups Impacted:\nusers of services below\n\nServices/Sites Impacted:\nplanet\,dcp\,zanata jboss.org\n\nDescription:\nImportant security update will be applied\nCVE-2017-9788 / RHSA-2017:3240\n\nImpact:\nThe following services will be unavailable:\nplanet.jboss.org\ndcp.jboss.org\ndcp2.jboss.org\nfedora.zanata.org\ntranslate.jboss.org\ntranslate.zanata.org\n\nRoot Cause:\nCVE-2017-9788 / RHSA-2017:3240\n\nSign Off:\nMarian Ganisin\n\n
ATTENDEE;ROLE=REQ-PARTICIPANT;CUTYPE=INDIVIDUAL;RSVP=TRUE;PARTSTAT=NEEDS-ACTION:mailto:zanata-users@redhat.com
ATTENDEE;ROLE=REQ-PARTICIPANT;CUTYPE=INDIVIDUAL;RSVP=TRUE;PARTSTAT=NEEDS-ACTION:mailto:zanata-list@redhat.com
ATTENDEE;ROLE=REQ-PARTICIPANT;CUTYPE=INDIVIDUAL;RSVP=TRUE;PARTSTAT=NEEDS-ACTION:mailto:doc-i18n-list@redhat.com
ATTENDEE;ROLE=REQ-PARTICIPANT;CUTYPE=INDIVIDUAL;RSVP=TRUE;PARTSTAT=NEEDS-ACTION:mailto:jboss-platform-org-staff@redhat.com
ATTENDEE;ROLE=REQ-PARTICIPANT;CUTYPE=INDIVIDUAL;RSVP=TRUE;PARTSTAT=NEEDS-ACTION:mailto:outage-list@redhat.com
LAST-MODIFIED:20171121T091927Z
BEGIN:VALARM
TRIGGER:-PT5M
ACTION:DISPLAY
DESCRIPTION:planet\,dcp\,zanata jboss.org Scheduled Maintenance | 21-Nov-2017 10:00:00 UTC
END:VALARM
END:VEVENT
END:VCALENDAR
