BEGIN:VCALENDAR
PRODID:-//Charnet Event Calendar//iCal4j 1.0//EN
VERSION:2.0
CALSCALE:GREGORIAN
METHOD:REQUEST
BEGIN:VEVENT
DTSTAMP:20171204T010136Z
DTSTART:20171204T160000Z
DTEND:20171204T170000Z
SUMMARY:Zanata (translate.engineering.redhat.com) Scheduled Maintenance | 04-Dec-2017 16:00:00 UTC
UID:0de866bf-ca4a-4cdb-bc07-06565734ef55@support.engineering.redhat.com
TZID:Europe/London
ORGANIZER:mailto:charnet-notification@redhat.com
DESCRIPTION:---------------------------------------------------------\n***// SCHEDULED MAINTENANCE REPORT //***\n\nHostName:\ntranslate.engineering.redhat.com\n\nPriority:\nMedium\n\nScheduled Date:\n04-Dec-2017 16:00:00 UTC\n\nEstimated Time Required:\n60 minutes\n\nPerformed By:\nttrinks\n\nPeople/Groups Impacted:\nZanata users\n\nServices/Sites Impacted:\nZanata (translate.engineering.redhat.com)\n\nDescription:\nUpgrade Zanata to 4.3.2 (ZANATA-1460).\n\n\nImpact:\nThe Zanata translation platform won't be available for the duration of the outage.\n\n\nSign Off:\nMarc Raaz\n\n
ATTENDEE;ROLE=REQ-PARTICIPANT;CUTYPE=INDIVIDUAL;RSVP=TRUE;PARTSTAT=NEEDS-ACTION:mailto:zanata-users@redhat.com
ATTENDEE;ROLE=REQ-PARTICIPANT;CUTYPE=INDIVIDUAL;RSVP=TRUE;PARTSTAT=NEEDS-ACTION:mailto:zanata-list@redhat.com
ATTENDEE;ROLE=REQ-PARTICIPANT;CUTYPE=INDIVIDUAL;RSVP=TRUE;PARTSTAT=NEEDS-ACTION:mailto:doc-i18n-list@redhat.com
ATTENDEE;ROLE=REQ-PARTICIPANT;CUTYPE=INDIVIDUAL;RSVP=TRUE;PARTSTAT=NEEDS-ACTION:mailto:outage-list@redhat.com
LAST-MODIFIED:20171204T010136Z
BEGIN:VALARM
TRIGGER:-PT5M
ACTION:DISPLAY
DESCRIPTION:Zanata (translate.engineering.redhat.com) Scheduled Maintenance | 04-Dec-2017 16:00:00 UTC
END:VALARM
END:VEVENT
END:VCALENDAR
