BEGIN:VCALENDAR
PRODID:-//Charnet Event Calendar//iCal4j 1.0//EN
VERSION:2.0
CALSCALE:GREGORIAN
METHOD:REQUEST
BEGIN:VEVENT
DTSTAMP:20180523T044904Z
DTSTART:20180523T210000Z
DTEND:20180524T000000Z
SUMMARY:Zanata at translate.zanata.org Scheduled Maintenance | 23-May-2018 21:00:00 UTC
UID:518ce416-7fb4-456c-8faa-c25f83ff5165@support.engineering.redhat.com
TZID:Europe/London
ORGANIZER:mailto:charnet-notification@redhat.com
DESCRIPTION:---------------------------------------------------------\n***// SCHEDULED MAINTENANCE REPORT //***\n\nHostName:\ntranslate.zanata.org\n\nPriority:\nHigh\n\nScheduled Date:\n23-May-2018 21:00:00 UTC\n\nEstimated Time Required:\n180 minutes\n\nPerformed By:\nttrinks\n\nPeople/Groups Impacted:\nZanata users of translate.zanata.org\n\nServices/Sites Impacted:\nZanata at translate.zanata.org\n\nDescription:\nMigrate translate.zanata.org off jboss.org hardware\; deploy latest version 4.4.5 on RHEL7 and EAP7.\n\nImpact:\nThe Zanata service will not be available for the duration of the upgrade.\n\nSign Off:\nMarc Raaz\n\n
ATTENDEE;ROLE=REQ-PARTICIPANT;CUTYPE=INDIVIDUAL;RSVP=TRUE;PARTSTAT=NEEDS-ACTION:mailto:bne-trans-list@redhat.com
ATTENDEE;ROLE=REQ-PARTICIPANT;CUTYPE=INDIVIDUAL;RSVP=TRUE;PARTSTAT=NEEDS-ACTION:mailto:outage-list@redhat.com
LAST-MODIFIED:20180523T044904Z
BEGIN:VALARM
TRIGGER:-PT5M
ACTION:DISPLAY
DESCRIPTION:Zanata at translate.zanata.org Scheduled Maintenance | 23-May-2018 21:00:00 UTC
END:VALARM
END:VEVENT
END:VCALENDAR
