BEGIN:VCALENDAR
PRODID:-//Charnet Event Calendar//iCal4j 1.0//EN
VERSION:2.0
CALSCALE:GREGORIAN
METHOD:REQUEST
BEGIN:VEVENT
DTSTAMP:20180718T035451Z
DTSTART:20180718T040000Z
DTEND:20180718T043000Z
SUMMARY:Zanata - translate.zanata.org Scheduled Maintenance | 18-Jul-2018 04:00:00 UTC
UID:69b40da2-ba25-4c5f-9912-bd4e0fedb267@support.engineering.redhat.com
TZID:Europe/London
ORGANIZER:mailto:charnet-notification@redhat.com
DESCRIPTION:---------------------------------------------------------\n***// SCHEDULED MAINTENANCE REPORT //***\n\nHostName:\ntranslate.zanata.org\n\nPriority:\nMedium\n\nScheduled Date:\n18-Jul-2018 04:00:00 UTC\n\nEstimated Time Required:\n30 minutes\n\nPerformed By:\nttrinks\n\nPeople/Groups Impacted:\nZanata users of translate.zanata.org\n\nServices/Sites Impacted:\nZanata - translate.zanata.org\n\nDescription:\nUpgrade Zanata to 4.5.1 (ZANATA-1480).\n\nImpact:\nZanata will not be available for the duration of the outage.\n\nSign Off:\nMarc Raaz\n\n
ATTENDEE;ROLE=REQ-PARTICIPANT;CUTYPE=INDIVIDUAL;RSVP=TRUE;PARTSTAT=NEEDS-ACTION:mailto:zanata-users@redhat.com
ATTENDEE;ROLE=REQ-PARTICIPANT;CUTYPE=INDIVIDUAL;RSVP=TRUE;PARTSTAT=NEEDS-ACTION:mailto:outage-list@redhat.com
LAST-MODIFIED:20180718T035451Z
BEGIN:VALARM
TRIGGER:-PT5M
ACTION:DISPLAY
DESCRIPTION:Zanata - translate.zanata.org Scheduled Maintenance | 18-Jul-2018 04:00:00 UTC
END:VALARM
END:VEVENT
END:VCALENDAR
