BEGIN:VCALENDAR
PRODID:-//Charnet Event Calendar//iCal4j 1.0//EN
VERSION:2.0
CALSCALE:GREGORIAN
METHOD:REQUEST
BEGIN:VEVENT
DTSTAMP:20180719T045435Z
DTSTART:20180719T050000Z
DTEND:20180719T053000Z
SUMMARY:Zanata - fedora.zanata.org Scheduled Maintenance | 19-Jul-2018 05:00:00 UTC
UID:ac56c0de-2f85-425e-9111-c6f08518bad5@support.engineering.redhat.com
TZID:Europe/London
ORGANIZER:mailto:charnet-notification@redhat.com
DESCRIPTION:---------------------------------------------------------\n***// SCHEDULED MAINTENANCE REPORT //***\n\nHostName:\nfedora.zanata.org\n\nPriority:\nMedium\n\nScheduled Date:\n19-Jul-2018 05:00:00 UTC\n\nEstimated Time Required:\n30 minutes\n\nPerformed By:\nttrinks\n\nPeople/Groups Impacted:\nZanata users of fedora.zanata.org\n\nServices/Sites Impacted:\nZanata - fedora.zanata.org\n\nDescription:\nUpgrade Zanata to 4.5.1 (ZANATA-1481).\n\nImpact:\nZanata will not be available for the duration of the outage.\n\nSign Off:\nMarc Raaz\n\n
ATTENDEE;ROLE=REQ-PARTICIPANT;CUTYPE=INDIVIDUAL;RSVP=TRUE;PARTSTAT=NEEDS-ACTION:mailto:zanata-users@redhat.com
ATTENDEE;ROLE=REQ-PARTICIPANT;CUTYPE=INDIVIDUAL;RSVP=TRUE;PARTSTAT=NEEDS-ACTION:mailto:i18n@lists.fedoraproject.org
ATTENDEE;ROLE=REQ-PARTICIPANT;CUTYPE=INDIVIDUAL;RSVP=TRUE;PARTSTAT=NEEDS-ACTION:mailto:trans@lists.fedoraproject.org
ATTENDEE;ROLE=REQ-PARTICIPANT;CUTYPE=INDIVIDUAL;RSVP=TRUE;PARTSTAT=NEEDS-ACTION:mailto:outage-list@redhat.com
LAST-MODIFIED:20180719T045435Z
BEGIN:VALARM
TRIGGER:-PT5M
ACTION:DISPLAY
DESCRIPTION:Zanata - fedora.zanata.org Scheduled Maintenance | 19-Jul-2018 05:00:00 UTC
END:VALARM
END:VEVENT
END:VCALENDAR
