BEGIN:VCALENDAR
PRODID:-//Charnet Event Calendar//iCal4j 1.0//EN
VERSION:2.0
CALSCALE:GREGORIAN
METHOD:REQUEST
BEGIN:VEVENT
DTSTAMP:20180807T084940Z
DTSTART:20180807T230000Z
DTEND:20180808T000000Z
SUMMARY:Zanata - fedora.zanata.org Scheduled Maintenance | 07-Aug-2018 23:00:00 UTC
UID:06d164c5-4f00-4ae1-887d-206adb3ba1a6@support.engineering.redhat.com
TZID:Europe/London
ORGANIZER:mailto:charnet-notification@redhat.com
DESCRIPTION:---------------------------------------------------------\n***// SCHEDULED MAINTENANCE REPORT //***\n\nHostName:\nfedora.zanata.org\n\nPriority:\nMedium\n\nScheduled Date:\n07-Aug-2018 23:00:00 UTC\n\nEstimated Time Required:\n60 minutes\n\nPerformed By:\nttrinks\n\nPeople/Groups Impacted:\nZanata users of fedora.zanata.org\n\nServices/Sites Impacted:\nZanata - fedora.zanata.org\n\nDescription:\nUpgrade Zanata to 4.6.0 (ZANATA-1488).\n\n\nImpact:\nZanata will not be available for the duration of the outage.\n\nSign Off:\nMarc Raaz\n\n
ATTENDEE;ROLE=REQ-PARTICIPANT;CUTYPE=INDIVIDUAL;RSVP=TRUE;PARTSTAT=NEEDS-ACTION:mailto:zanata-users@redhat.com
ATTENDEE;ROLE=REQ-PARTICIPANT;CUTYPE=INDIVIDUAL;RSVP=TRUE;PARTSTAT=NEEDS-ACTION:mailto:outage-list@redhat.com
LAST-MODIFIED:20180807T084940Z
BEGIN:VALARM
TRIGGER:-PT5M
ACTION:DISPLAY
DESCRIPTION:Zanata - fedora.zanata.org Scheduled Maintenance | 07-Aug-2018 23:00:00 UTC
END:VALARM
END:VEVENT
END:VCALENDAR
