BEGIN:VCALENDAR
PRODID:-//Charnet Event Calendar//iCal4j 1.0//EN
VERSION:2.0
CALSCALE:GREGORIAN
METHOD:REQUEST
BEGIN:VEVENT
DTSTAMP:20180816T063940Z
DTSTART:20180816T220000Z
DTEND:20180816T230000Z
SUMMARY:Zanata - translate.zanata.org Scheduled Maintenance | 16-Aug-2018 22:00:00 UTC
UID:902235c5-ee74-4603-9e39-a073067a0ba5@support.engineering.redhat.com
TZID:Europe/London
ORGANIZER:mailto:charnet-notification@redhat.com
DESCRIPTION:---------------------------------------------------------\n***// SCHEDULED MAINTENANCE REPORT //***\n\nHostName:\ntranslate.zanata.org\n\nPriority:\nHigh\n\nScheduled Date:\n16-Aug-2018 22:00:00 UTC\n\nEstimated Time Required:\n60 minutes\n\nPerformed By:\nttrinks\n\nPeople/Groups Impacted:\nZanata users of translate.zanata.org\n\nServices/Sites Impacted:\nZanata - translate.zanata.org\n\nDescription:\nAddress L1TF - L1 Terminal Fault Attack - CVE-2018-3620 & CVE-2018-3646 where applicable.\n\nImpact:\nZanata will not be available for the duration of the outage.\n\nSign Off:\nMarc Raaz\n\n
ATTENDEE;ROLE=REQ-PARTICIPANT;CUTYPE=INDIVIDUAL;RSVP=TRUE;PARTSTAT=NEEDS-ACTION:mailto:zanata-users@redhat.com
ATTENDEE;ROLE=REQ-PARTICIPANT;CUTYPE=INDIVIDUAL;RSVP=TRUE;PARTSTAT=NEEDS-ACTION:mailto:outage-list@redhat.com
LAST-MODIFIED:20180816T063940Z
BEGIN:VALARM
TRIGGER:-PT5M
ACTION:DISPLAY
DESCRIPTION:Zanata - translate.zanata.org Scheduled Maintenance | 16-Aug-2018 22:00:00 UTC
END:VALARM
END:VEVENT
END:VCALENDAR
