BEGIN:VCALENDAR
PRODID:-//Charnet Event Calendar//iCal4j 1.0//EN
VERSION:2.0
CALSCALE:GREGORIAN
METHOD:REQUEST
BEGIN:VEVENT
DTSTAMP:20180828T010929Z
DTSTART:20180828T013000Z
DTEND:20180828T020000Z
SUMMARY:Zanata - fedora.zanata.org Scheduled Maintenance | 28-Aug-2018 01:30:00 UTC
UID:720d3193-4b5d-4a36-b26c-ea7f9d9364b2@support.engineering.redhat.com
TZID:Europe/London
ORGANIZER:mailto:charnet-notification@redhat.com
DESCRIPTION:---------------------------------------------------------\n***// SCHEDULED MAINTENANCE REPORT //***\n\nHostName:\nfedora.zanata.org\n\nPriority:\nMedium\n\nScheduled Date:\n28-Aug-2018 01:30:00 UTC\n\nEstimated Time Required:\n30 minutes\n\nPerformed By:\nttrinks\n\nPeople/Groups Impacted:\nZanata users of fedora.zanata.org\n\nServices/Sites Impacted:\nZanata - fedora.zanata.org\n\nDescription:\nDeploy org.zanata-zanata-platform-4.6.2-1 to fedora.zanata.org.\n\nImpact:\nZanata will not be available for the duration of the outage.\n\n\nSign Off:\nMarc Raaz\n\n
ATTENDEE;ROLE=REQ-PARTICIPANT;CUTYPE=INDIVIDUAL;RSVP=TRUE;PARTSTAT=NEEDS-ACTION:mailto:zanata-users@redhat.com
ATTENDEE;ROLE=REQ-PARTICIPANT;CUTYPE=INDIVIDUAL;RSVP=TRUE;PARTSTAT=NEEDS-ACTION:mailto:outage-list@redhat.com
LAST-MODIFIED:20180828T010929Z
BEGIN:VALARM
TRIGGER:-PT5M
ACTION:DISPLAY
DESCRIPTION:Zanata - fedora.zanata.org Scheduled Maintenance | 28-Aug-2018 01:30:00 UTC
END:VALARM
END:VEVENT
END:VCALENDAR
